BEGIN:VCALENDAR
VERSION:2.0
PRODID:-//Actu.Art - ECPv6.15.13//NONSGML v1.0//EN
CALSCALE:GREGORIAN
METHOD:PUBLISH
X-WR-CALNAME:Actu.Art
X-ORIGINAL-URL:https://actu.art
X-WR-CALDESC:Évènements pour Actu.Art
BEGIN:VTIMEZONE
TZID:Europe/Paris
BEGIN:DAYLIGHT
TZOFFSETFROM:+0100
TZOFFSETTO:+0200
TZNAME:CEST
DTSTART:20200329T010000
END:DAYLIGHT
BEGIN:STANDARD
TZOFFSETFROM:+0200
TZOFFSETTO:+0100
TZNAME:CET
DTSTART:20201025T010000
END:STANDARD
BEGIN:DAYLIGHT
TZOFFSETFROM:+0100
TZOFFSETTO:+0200
TZNAME:CEST
DTSTART:20210328T010000
END:DAYLIGHT
BEGIN:STANDARD
TZOFFSETFROM:+0200
TZOFFSETTO:+0100
TZNAME:CET
DTSTART:20211031T010000
END:STANDARD
BEGIN:DAYLIGHT
TZOFFSETFROM:+0100
TZOFFSETTO:+0200
TZNAME:CEST
DTSTART:20220327T010000
END:DAYLIGHT
BEGIN:STANDARD
TZOFFSETFROM:+0200
TZOFFSETTO:+0100
TZNAME:CET
DTSTART:20221030T010000
END:STANDARD
END:VTIMEZONE
BEGIN:VEVENT
DTSTART;VALUE=DATE:20210505
DTEND;VALUE=DATE:20210824
DTSTAMP:20260425T172122
CREATED:20210218T181702Z
LAST-MODIFIED:20210805T214750Z
UID:28994-1620172800-1629763199@actu.art
SUMMARY:Elles font l’abstraction
DESCRIPTION:Cette exposition propose une relecture de l’histoire de l’abstraction\, depuis ses origines jusqu’aux années 1980\, en articulant les apports spécifiques d’une centaine d’« artistes femmes ». Le parcours chronologique met en évidence le processus d’invisibilisation des « artistes femmes »\, en mêlant arts plastiques\, danse\, photographie\, film et arts décoratifs. Les artistes y sont présentées\, selon les termes choisis pour le titre\, comme actrices et cocréatrices à part entière du modernisme et de ses suites.
URL:https://actu.art/event/elles-font-labstraction/
LOCATION:Centre Pompidou\, Place Georges-Pompidou\, Paris\, Paris\, 75004\, France
CATEGORIES:Notre Sélection
ATTACH;FMTTYPE=image/jpeg:https://actu.art/wp-content/uploads/2021/02/elles-font-labstraction-400x600-1.jpg
GEO:48.860642;2.352245
X-APPLE-STRUCTURED-LOCATION;VALUE=URI;X-ADDRESS=Centre Pompidou Place Georges-Pompidou Paris Paris 75004 France;X-APPLE-RADIUS=500;X-TITLE=Place Georges-Pompidou:geo:2.352245,48.860642
END:VEVENT
END:VCALENDAR