BEGIN:VCALENDAR
VERSION:2.0
PRODID:-//Actu.Art - ECPv6.15.13//NONSGML v1.0//EN
CALSCALE:GREGORIAN
METHOD:PUBLISH
X-WR-CALNAME:Actu.Art
X-ORIGINAL-URL:https://actu.art
X-WR-CALDESC:Évènements pour Actu.Art
BEGIN:VTIMEZONE
TZID:Europe/Paris
BEGIN:DAYLIGHT
TZOFFSETFROM:+0100
TZOFFSETTO:+0200
TZNAME:CEST
DTSTART:20210328T010000
END:DAYLIGHT
BEGIN:STANDARD
TZOFFSETFROM:+0200
TZOFFSETTO:+0100
TZNAME:CET
DTSTART:20211031T010000
END:STANDARD
BEGIN:DAYLIGHT
TZOFFSETFROM:+0100
TZOFFSETTO:+0200
TZNAME:CEST
DTSTART:20220327T010000
END:DAYLIGHT
BEGIN:STANDARD
TZOFFSETFROM:+0200
TZOFFSETTO:+0100
TZNAME:CET
DTSTART:20221030T010000
END:STANDARD
BEGIN:DAYLIGHT
TZOFFSETFROM:+0100
TZOFFSETTO:+0200
TZNAME:CEST
DTSTART:20230326T010000
END:DAYLIGHT
BEGIN:STANDARD
TZOFFSETFROM:+0200
TZOFFSETTO:+0100
TZNAME:CET
DTSTART:20231029T010000
END:STANDARD
BEGIN:DAYLIGHT
TZOFFSETFROM:+0100
TZOFFSETTO:+0200
TZNAME:CEST
DTSTART:20240331T010000
END:DAYLIGHT
BEGIN:STANDARD
TZOFFSETFROM:+0200
TZOFFSETTO:+0100
TZNAME:CET
DTSTART:20241027T010000
END:STANDARD
END:VTIMEZONE
BEGIN:VEVENT
DTSTART;TZID=Europe/Paris:20220920T093000
DTEND;TZID=Europe/Paris:20230122T180000
DTSTAMP:20260424T014254
CREATED:20220301T214335Z
LAST-MODIFIED:20230108T085055Z
UID:42391-1663666200-1674410400@actu.art
SUMMARY:Edvard Munch
DESCRIPTION:En collaboration avec le musée Munch d’Oslo\, le musée d’Orsay consacre une exposition au célèbre peintre norvégien Edvard Munch (1863-1944) dont l’œuvre dans son ampleur – soixante ans de création – et sa complexité demeure pourtant en partie méconnu. \nL’œuvre de Munch occupe dans la modernité artistique une place charnière. Elle plonge ses racines dans le XIXe siècle pour s’inscrire pleinement dans le suivant. Plus encore\, son œuvre tout entière est innervée par une vision du monde singulière lui conférant une puissante dimension symboliste qui ne se réduit pas aux quelques chefs-d’œuvre qu’il a créés dans les années 1890. Dépassant le symbolisme fin-de-siècle\, Munch transcende ce mouvement au-delà de son apogée pour en faire l’épine dorsale de son œuvre\, lui conférant ainsi sa grande cohérence. \nLe processus créatif singulier de Munch le conduit à réaliser de nombreuses déclinaisons d’un même motif\, mais aussi plusieurs versions d’un même sujet. Éminemment symboliste\, la notion de cycle a ainsi joué un rôle clé dans la pensée et l’art de Munch. Elle intervient à plusieurs niveaux dans son œuvre jusqu’à entrer en jeu dans la construction même de ses toiles\, où certains motifs reviennent de façon régulière. Pour Munch\, l’humanité et la nature sont unies dans le cycle de la vie\, de la mort et de la renaissance. Dans ce cadre\, il élabore une iconographie inédite\, en grande partie inspirée par les philosophies vitalistes de Friedrich Nietzsche et d’Henri Bergson. Munch l’a lui-même souligné en parlant de sa Frise de la Vie : « ces toiles\, il est vrai relativement difficiles à comprendre\, seront […] plus faciles à appréhender si elles sont intégrées à un tout. » \nL’exposition présentera une centaine d’œuvres\, peintures\, mais aussi dessins\, estampes ou encore blocs gravés\, rendant compte de la diversité de sa pratique. Cette présentation d’ampleur\, à la dimension rétrospective\, embrassera l’ensemble de la carrière de l’artiste. Elle invitera le visiteur à revoir dans sa globalité l’œuvre du peintre norvégiens en suivant le fil d’une pensée picturale toujours inventive : une œuvre à la fois foncièrement cohérente\, voire obsessionnelle\, et en même temps constamment renouvelée.
URL:https://actu.art/event/edvard-munch/
LOCATION:Musée d’Orsay\, Esplanade Valéry Giscard d'Estaing\, Paris\, Paris\, 75007\, France
CATEGORIES:Notre Sélection
ATTACH;FMTTYPE=image/jpeg:https://actu.art/wp-content/uploads/2022/03/Munch-Orsay-1.jpg
GEO:48.8601715;2.326074
X-APPLE-STRUCTURED-LOCATION;VALUE=URI;X-ADDRESS=Musée d’Orsay Esplanade Valéry Giscard d'Estaing Paris Paris 75007 France;X-APPLE-RADIUS=500;X-TITLE=Esplanade Valéry Giscard d'Estaing:geo:2.326074,48.8601715
END:VEVENT
END:VCALENDAR