BEGIN:VCALENDAR
VERSION:2.0
PRODID:-//Actu.Art - ECPv6.15.13//NONSGML v1.0//EN
CALSCALE:GREGORIAN
METHOD:PUBLISH
X-WR-CALNAME:Actu.Art
X-ORIGINAL-URL:https://actu.art
X-WR-CALDESC:Évènements pour Actu.Art
BEGIN:VTIMEZONE
TZID:Europe/Paris
BEGIN:DAYLIGHT
TZOFFSETFROM:+0100
TZOFFSETTO:+0200
TZNAME:CEST
DTSTART:20240331T010000
END:DAYLIGHT
BEGIN:STANDARD
TZOFFSETFROM:+0200
TZOFFSETTO:+0100
TZNAME:CET
DTSTART:20241027T010000
END:STANDARD
BEGIN:DAYLIGHT
TZOFFSETFROM:+0100
TZOFFSETTO:+0200
TZNAME:CEST
DTSTART:20250330T010000
END:DAYLIGHT
BEGIN:STANDARD
TZOFFSETFROM:+0200
TZOFFSETTO:+0100
TZNAME:CET
DTSTART:20251026T010000
END:STANDARD
BEGIN:DAYLIGHT
TZOFFSETFROM:+0100
TZOFFSETTO:+0200
TZNAME:CEST
DTSTART:20260329T010000
END:DAYLIGHT
BEGIN:STANDARD
TZOFFSETFROM:+0200
TZOFFSETTO:+0100
TZNAME:CET
DTSTART:20261025T010000
END:STANDARD
END:VTIMEZONE
BEGIN:VEVENT
DTSTART;TZID=Europe/Paris:20250503T110000
DTEND;TZID=Europe/Paris:20251102T190000
DTSTAMP:20260422T191708
CREATED:20250501T171614Z
LAST-MODIFIED:20250501T171614Z
UID:116658-1746270000-1762110000@actu.art
SUMMARY:Dubuffet et les magiciens : Expressions singulières (1945-2000)
DESCRIPTION:Le Musée du Niel à Hyères présente\, du 3 mai au 2 novembre\, les œuvres d’artistes non conventionnels et aux expressions singulières\, ayant marqué la seconde moitié du XXe. Jean Dubuffet occupe dans ce parcours une place inaugurale. \nAu moment où l’abstraction établit son magistère sur la peinture en France et où la figuration résiste et fait valoir ses atouts traditionnels\, Dubuffet montre qu’il existe un art qui défie les canons officiels et qui ignore les filières habituelles de la culture établie : l’Art Brut. Théoricien de cette forme d’expression singulière\, il développe lui-même une façon de peindre d’une totale originalité. \nAu même moment\, entre 1949 et 1951\, le mouvement CoBrA\, venu d’Europe du Nord\, définit aussi un espace bien particulier et crée un univers unique\, distinct des principaux courants. \nQuelques années plus tard\, Michel Tapié\, ami de Jean Dubuffet\, critique et figure centrale du marché de l’art\, théorise l' »art autre » et souligne la nécessité de se placer dans une autre dimension artistique\, en faisant appel à des sources d’inspiration subjectives et informelles. \nDe ces trois initiatives indépendantes\, sans constitution de groupe ou de mouvement\, émergent des artistes non conventionnels et des expressions singulières qui marqueront la seconde moitié du XXe par leur magie\, originale et unique\, paradoxale\, parfois dérangeante\, dans une effervescence créative constante qui dessine les évolutions futures de l’art contemporain.
URL:https://actu.art/event/dubuffet-et-les-magiciens-expressions-singulieres-1945-2000/
LOCATION:Musée du Niel\, Route du Port du Niel 6\, Hyères\, Var\, 83400\, France
CATEGORIES:Expositions
ATTACH;FMTTYPE=image/jpeg:https://actu.art/wp-content/uploads/2025/05/Dubuffet_et_les_magiciens_Expressions_singulieres_1945_2000_.jpg
GEO:43.0359149;6.1264939
X-APPLE-STRUCTURED-LOCATION;VALUE=URI;X-ADDRESS=Musée du Niel Route du Port du Niel 6 Hyères Var 83400 France;X-APPLE-RADIUS=500;X-TITLE=Route du Port du Niel 6:geo:6.1264939,43.0359149
END:VEVENT
END:VCALENDAR