BEGIN:VCALENDAR
VERSION:2.0
PRODID:-//Actu.Art - ECPv6.15.13//NONSGML v1.0//EN
CALSCALE:GREGORIAN
METHOD:PUBLISH
X-WR-CALNAME:Actu.Art
X-ORIGINAL-URL:https://actu.art
X-WR-CALDESC:Évènements pour Actu.Art
BEGIN:VTIMEZONE
TZID:Europe/Paris
BEGIN:DAYLIGHT
TZOFFSETFROM:+0100
TZOFFSETTO:+0200
TZNAME:CEST
DTSTART:20180325T010000
END:DAYLIGHT
BEGIN:STANDARD
TZOFFSETFROM:+0200
TZOFFSETTO:+0100
TZNAME:CET
DTSTART:20181028T010000
END:STANDARD
BEGIN:DAYLIGHT
TZOFFSETFROM:+0100
TZOFFSETTO:+0200
TZNAME:CEST
DTSTART:20190331T010000
END:DAYLIGHT
BEGIN:STANDARD
TZOFFSETFROM:+0200
TZOFFSETTO:+0100
TZNAME:CET
DTSTART:20191027T010000
END:STANDARD
BEGIN:DAYLIGHT
TZOFFSETFROM:+0100
TZOFFSETTO:+0200
TZNAME:CEST
DTSTART:20200329T010000
END:DAYLIGHT
BEGIN:STANDARD
TZOFFSETFROM:+0200
TZOFFSETTO:+0100
TZNAME:CET
DTSTART:20201025T010000
END:STANDARD
BEGIN:DAYLIGHT
TZOFFSETFROM:+0100
TZOFFSETTO:+0200
TZNAME:CEST
DTSTART:20210328T010000
END:DAYLIGHT
BEGIN:STANDARD
TZOFFSETFROM:+0200
TZOFFSETTO:+0100
TZNAME:CET
DTSTART:20211031T010000
END:STANDARD
END:VTIMEZONE
BEGIN:VEVENT
DTSTART;TZID=Europe/Paris:20190911T103000
DTEND;TZID=Europe/Paris:20200223T183000
DTSTAMP:20260424T204339
CREATED:20190912T174038Z
LAST-MODIFIED:20200203T065359Z
UID:16571-1568197800-1582482600@actu.art
SUMMARY:Du Douanier Rousseau à Séraphine - Les grands maîtres naïfs
DESCRIPTION:Le Musée Maillol accueille plus d’une centaine d’oeuvres issues du monde passionnant\, rêveur\, insolite et inépuisable des artistes dit « naïfs ». Appelés « primitifs modernes » par l’un de leurs fervents défenseurs\, le collectionneur et critique d’art Wilhelm Uhde (1874-1947)\, ces artistes renouvellent la peinture à leur manière\, à l’écart des avant-gardes et des académismes. \nRéunies pour la première fois à Paris\, leurs oeuvres aux couleurs éclatantes livrent un pan souvent négligé de l’histoire de l’art de l’entre-deux guerres. Sur les pas d’Henri Rousseau et de Séraphine Louis\, l’exposition vise à sortir de l’oubli une constellation d’artistes tels qu’André Bauchant\, Camille Bombois\, Ferdinand Desnos\, Jean Ève\, René Rimbert\, Dominique Peyronnet et Louis Vivin. \nL’exposition\, à travers un parcours thématique\, soulignera les qualités picturales de ces artistes\, au-delà de l’anecdote biographique qui a longtemps constitué le seul commentaire disponible sur eux. Une sélection d’oeuvres étonnantes et à contre-courant\, issues d’importantes collections publiques et privées françaises et internationales révélera la grande inventivité formelle de chaque artiste\, sans dissimuler les dialogues qu’ils entretiennent avec la tradition picturale comme avec la création de leur temps. \nEn croisant approches historique\, analytique et sensible des oeuvres et de leur présentation au monde\, le Musée Maillol lèvera le voile sur la dimension subversive de l’art dit naïf et présentera ces naïfs\, primitifs\, modernes ou antimodernes\, comme des grands artistes à contre-courant des avant-gardes.
URL:https://actu.art/event/du-douanier-rousseau-a-seraphine-les-grands-maitres-naifs/
LOCATION:Musée Maillol\, 61 rue de Grenelle\, Paris 07\, Paris\, 75007\, France
CATEGORIES:Notre Sélection
ATTACH;FMTTYPE=image/jpeg:https://actu.art/wp-content/uploads/2019/09/Grands-Maitres-Naifs.jpg
GEO:48.8547222;2.3248284
X-APPLE-STRUCTURED-LOCATION;VALUE=URI;X-ADDRESS=Musée Maillol 61 rue de Grenelle Paris 07 Paris 75007 France;X-APPLE-RADIUS=500;X-TITLE=61 rue de Grenelle:geo:2.3248284,48.8547222
END:VEVENT
END:VCALENDAR