BEGIN:VCALENDAR
VERSION:2.0
PRODID:-//Actu.Art - ECPv6.15.13//NONSGML v1.0//EN
CALSCALE:GREGORIAN
METHOD:PUBLISH
X-WR-CALNAME:Actu.Art
X-ORIGINAL-URL:https://actu.art
X-WR-CALDESC:Évènements pour Actu.Art
BEGIN:VTIMEZONE
TZID:Europe/Paris
BEGIN:DAYLIGHT
TZOFFSETFROM:+0100
TZOFFSETTO:+0200
TZNAME:CEST
DTSTART:20250330T010000
END:DAYLIGHT
BEGIN:STANDARD
TZOFFSETFROM:+0200
TZOFFSETTO:+0100
TZNAME:CET
DTSTART:20251026T010000
END:STANDARD
BEGIN:DAYLIGHT
TZOFFSETFROM:+0100
TZOFFSETTO:+0200
TZNAME:CEST
DTSTART:20260329T010000
END:DAYLIGHT
BEGIN:STANDARD
TZOFFSETFROM:+0200
TZOFFSETTO:+0100
TZNAME:CET
DTSTART:20261025T010000
END:STANDARD
BEGIN:DAYLIGHT
TZOFFSETFROM:+0100
TZOFFSETTO:+0200
TZNAME:CEST
DTSTART:20270328T010000
END:DAYLIGHT
BEGIN:STANDARD
TZOFFSETFROM:+0200
TZOFFSETTO:+0100
TZNAME:CET
DTSTART:20271031T010000
END:STANDARD
END:VTIMEZONE
BEGIN:VEVENT
DTSTART;TZID=Europe/Paris:20260326T110000
DTEND;TZID=Europe/Paris:20260329T190000
DTSTAMP:20260419T160345
CREATED:20260220T225910Z
LAST-MODIFIED:20260327T073215Z
UID:138950-1774522800-1774810800@actu.art
SUMMARY:Drawing Now Paris 2026
DESCRIPTION:Fondée en 2007 par Christine Phal\, Drawing Now Paris est la première foire d’art contemporain en Europe exclusivement consacrée au dessin. Depuis sa création\, elle accompagne l’évolution du médium et en révèle la vitalité à travers une approche curatoriale exigeante. \nPour sa 19e édition\, Drawing Now Paris réunira 71 galeries internationales issues de 13 pays\, présentant des artistes aux pratiques multiples\, de la redécouverte de figures historiques aux expérimentations les plus contemporaines. \nÀ travers son programme de talks\, de performances\, de rencontres professionnelles et son exposition\, Drawing Now Paris met en lumière la richesse et la diversité du dessin contemporain. Le salon affirme le dessin comme un espace qui se déploie\, se réinvente\, traversé par les enjeux esthétiques\, techniques et sociétaux de notre temps. Il confirme ainsi son rôle de plateforme de référence pour la création contemporaine.
URL:https://actu.art/event/drawing-now-paris-2026/
LOCATION:Carreau du Temple\, 4 rue Eugène Spuller\, Paris\, Paris\, 75003\, France
CATEGORIES:Marchés de l'Art/Salons
ATTACH;FMTTYPE=image/jpeg:https://actu.art/wp-content/uploads/2026/02/Drawing-Now-Art-Fair.jpg
GEO:48.864609;2.3623066
X-APPLE-STRUCTURED-LOCATION;VALUE=URI;X-ADDRESS=Carreau du Temple 4 rue Eugène Spuller Paris Paris 75003 France;X-APPLE-RADIUS=500;X-TITLE=4 rue Eugène Spuller:geo:2.3623066,48.864609
END:VEVENT
END:VCALENDAR