BEGIN:VCALENDAR
VERSION:2.0
PRODID:-//Actu.Art - ECPv6.15.13//NONSGML v1.0//EN
CALSCALE:GREGORIAN
METHOD:PUBLISH
X-WR-CALNAME:Actu.Art
X-ORIGINAL-URL:https://actu.art
X-WR-CALDESC:Évènements pour Actu.Art
BEGIN:VTIMEZONE
TZID:Europe/Paris
BEGIN:DAYLIGHT
TZOFFSETFROM:+0100
TZOFFSETTO:+0200
TZNAME:CEST
DTSTART:20180325T010000
END:DAYLIGHT
BEGIN:STANDARD
TZOFFSETFROM:+0200
TZOFFSETTO:+0100
TZNAME:CET
DTSTART:20181028T010000
END:STANDARD
BEGIN:DAYLIGHT
TZOFFSETFROM:+0100
TZOFFSETTO:+0200
TZNAME:CEST
DTSTART:20190331T010000
END:DAYLIGHT
BEGIN:STANDARD
TZOFFSETFROM:+0200
TZOFFSETTO:+0100
TZNAME:CET
DTSTART:20191027T010000
END:STANDARD
BEGIN:DAYLIGHT
TZOFFSETFROM:+0100
TZOFFSETTO:+0200
TZNAME:CEST
DTSTART:20200329T010000
END:DAYLIGHT
BEGIN:STANDARD
TZOFFSETFROM:+0200
TZOFFSETTO:+0100
TZNAME:CET
DTSTART:20201025T010000
END:STANDARD
END:VTIMEZONE
BEGIN:VEVENT
DTSTART;TZID=Europe/Paris:20190605T110000
DTEND;TZID=Europe/Paris:20190729T210000
DTSTAMP:20260424T072321
CREATED:20190525T214336Z
LAST-MODIFIED:20190611T201638Z
UID:8216-1559732400-1564434000@actu.art
SUMMARY:Dora Maar
DESCRIPTION:La plus grande rétrospective jamais consacrée en France à l’œuvre de Dora Maar (1907-1997) vous invite à découvrir tous les volets de son travail\, au travers de plus de cinq cents œuvres et documents. \nD’abord photographe professionnelle et surréaliste\, puis peintre\, Dora Maar jouit d’une reconnaissance incontestable. Bien loin du modèle auquel sa relation intime avec Pablo Picasso la limite trop souvent\, l’exposition retrace le parcours d’une artiste accomplie\, d’une intellectuelle libre et indépendante. 
URL:https://actu.art/event/dora-maar/
LOCATION:Centre Pompidou\, Place Georges-Pompidou\, Paris\, Paris\, 75004\, France
CATEGORIES:Notre Sélection
ATTACH;FMTTYPE=image/jpeg:https://actu.art/wp-content/uploads/2019/05/Dora-Maar.jpg
GEO:48.860642;2.352245
X-APPLE-STRUCTURED-LOCATION;VALUE=URI;X-ADDRESS=Centre Pompidou Place Georges-Pompidou Paris Paris 75004 France;X-APPLE-RADIUS=500;X-TITLE=Place Georges-Pompidou:geo:2.352245,48.860642
END:VEVENT
END:VCALENDAR