BEGIN:VCALENDAR
VERSION:2.0
PRODID:-//Actu.Art - ECPv6.15.13//NONSGML v1.0//EN
CALSCALE:GREGORIAN
METHOD:PUBLISH
X-WR-CALNAME:Actu.Art
X-ORIGINAL-URL:https://actu.art
X-WR-CALDESC:Évènements pour Actu.Art
BEGIN:VTIMEZONE
TZID:Europe/Paris
BEGIN:DAYLIGHT
TZOFFSETFROM:+0100
TZOFFSETTO:+0200
TZNAME:CEST
DTSTART:20180325T010000
END:DAYLIGHT
BEGIN:STANDARD
TZOFFSETFROM:+0200
TZOFFSETTO:+0100
TZNAME:CET
DTSTART:20181028T010000
END:STANDARD
BEGIN:DAYLIGHT
TZOFFSETFROM:+0100
TZOFFSETTO:+0200
TZNAME:CEST
DTSTART:20190331T010000
END:DAYLIGHT
BEGIN:STANDARD
TZOFFSETFROM:+0200
TZOFFSETTO:+0100
TZNAME:CET
DTSTART:20191027T010000
END:STANDARD
BEGIN:DAYLIGHT
TZOFFSETFROM:+0100
TZOFFSETTO:+0200
TZNAME:CEST
DTSTART:20200329T010000
END:DAYLIGHT
BEGIN:STANDARD
TZOFFSETFROM:+0200
TZOFFSETTO:+0100
TZNAME:CET
DTSTART:20201025T010000
END:STANDARD
END:VTIMEZONE
BEGIN:VEVENT
DTSTART;TZID=Europe/Paris:20190627T090000
DTEND;TZID=Europe/Paris:20190930T180000
DTSTAMP:20260424T192853
CREATED:20190216T224524Z
LAST-MODIFIED:20190519T163707Z
UID:6811-1561626000-1569866400@actu.art
SUMMARY:Dessins italiens de la collection Mariette
DESCRIPTION:Après les dessins français en 2011\, les dessins des grands maîtres italiens sont à l’honneur au musée du Louvre\, qui poursuit la présentation de la collection Mariette. Pierre-Jean Mariette (1694-1774) est graveur\, dessinateur\, traducteur\, critique d’art\, épistolier et collectionneur de dessins. C’est le dernier représentant d’une illustre dynastie de marchands d’estampes\, admis comme « associé libre » à l’Académie royale de peinture et de sculpture.  
URL:https://actu.art/event/dessins-italiens-de-la-collection-mariette/
LOCATION:Musée du Louvre\, rue de Rivoli\, Paris 01\, Paris\, 75001\, France
CATEGORIES:Notre Sélection
ATTACH;FMTTYPE=image/jpeg:https://actu.art/wp-content/uploads/2019/02/Dessins-italiens-de-la-collection-Mariette.jpg
GEO:48.8557059;2.3589484
X-APPLE-STRUCTURED-LOCATION;VALUE=URI;X-ADDRESS=Musée du Louvre rue de Rivoli Paris 01 Paris 75001 France;X-APPLE-RADIUS=500;X-TITLE=rue de Rivoli:geo:2.3589484,48.8557059
END:VEVENT
END:VCALENDAR