BEGIN:VCALENDAR
VERSION:2.0
PRODID:-//Actu.Art - ECPv6.15.13//NONSGML v1.0//EN
CALSCALE:GREGORIAN
METHOD:PUBLISH
X-WR-CALNAME:Actu.Art
X-ORIGINAL-URL:https://actu.art
X-WR-CALDESC:Évènements pour Actu.Art
BEGIN:VTIMEZONE
TZID:Europe/Paris
BEGIN:DAYLIGHT
TZOFFSETFROM:+0100
TZOFFSETTO:+0200
TZNAME:CEST
DTSTART:20160327T010000
END:DAYLIGHT
BEGIN:STANDARD
TZOFFSETFROM:+0200
TZOFFSETTO:+0100
TZNAME:CET
DTSTART:20161030T010000
END:STANDARD
BEGIN:DAYLIGHT
TZOFFSETFROM:+0100
TZOFFSETTO:+0200
TZNAME:CEST
DTSTART:20170326T010000
END:DAYLIGHT
BEGIN:STANDARD
TZOFFSETFROM:+0200
TZOFFSETTO:+0100
TZNAME:CET
DTSTART:20171029T010000
END:STANDARD
BEGIN:DAYLIGHT
TZOFFSETFROM:+0100
TZOFFSETTO:+0200
TZNAME:CEST
DTSTART:20180325T010000
END:DAYLIGHT
BEGIN:STANDARD
TZOFFSETFROM:+0200
TZOFFSETTO:+0100
TZNAME:CET
DTSTART:20181028T010000
END:STANDARD
BEGIN:DAYLIGHT
TZOFFSETFROM:+0100
TZOFFSETTO:+0200
TZNAME:CEST
DTSTART:20190331T010000
END:DAYLIGHT
BEGIN:STANDARD
TZOFFSETFROM:+0200
TZOFFSETTO:+0100
TZNAME:CET
DTSTART:20191027T010000
END:STANDARD
END:VTIMEZONE
BEGIN:VEVENT
DTSTART;TZID=Europe/Paris:20171018T090000
DTEND;TZID=Europe/Paris:20180129T180000
DTSTAMP:20260419T190940
CREATED:20170827T180056Z
LAST-MODIFIED:20210210T190448Z
UID:2024-1508317200-1517248800@actu.art
SUMMARY:Dessiner en plein air – Variations du dessin sur nature dans la première moitié du 19e siècle
DESCRIPTION:La pratique du dessin en plein air\, sur le motif\, est bien attesté en France (comme en Europe) au 17e siècle et devient courant au 18e siècle. Au 19e siècle\, jugée  indispensable à la formation des jeunes artistes\, elle ne cesse d’évoluer et prend une place capitale dans l’histoire du dessin. \nLes expressions « sur nature »\, « d’après nature »\, « sur le motif » ont cependant une signification très fluctuante\, incertaine\, désignant aussi bien le dessin d’observation ou d’étude scientifique que le croquis d’étude\, l’exercice d’élève\, le relevé d’architecte\, le dessin militaire\, le dessin de mémoire\, les notes de  voyage – ou le rendu à peine esquissé d’une impression fugitive… Le dessin sur nature se définit progressivement comme une oeuvre en soi\, une oeuvre achevée ayant sa propre justification\, sa propre finalité. \nL’espace de l’atelier et le plein air ne sont pas toujours des mondes distincts\, et les artistes se situent souvent dans un va-et-vient entre les deux. Si le sujet est bien distinct de celui de la peinture de plein air\, la question de la couleur\, prise directement sur le motif ou retravaillée en atelier à partir de notes de plein air\, s’impose aussi au dessinateur. \nL’exposition réunit plus d’une centaine de dessins et eaux-fortes\, et permettra de voir une trentaine de carnets de croquis\, instrument par excellence du dessin de plein air.
URL:https://actu.art/event/dessiner-plein-air-variations-dessin-nature-premiere-moitie-19e-siecle-18-octobre-2017-29-janvier-2018/
LOCATION:Musée du Louvre\, rue de Rivoli\, Paris 01\, Paris\, 75001\, France
CATEGORIES:Notre Sélection
ATTACH;FMTTYPE=image/jpeg:https://actu.art/wp-content/uploads/2017/08/Granet-500x328.jpg
GEO:48.8557059;2.3589484
X-APPLE-STRUCTURED-LOCATION;VALUE=URI;X-ADDRESS=Musée du Louvre rue de Rivoli Paris 01 Paris 75001 France;X-APPLE-RADIUS=500;X-TITLE=rue de Rivoli:geo:2.3589484,48.8557059
END:VEVENT
END:VCALENDAR