BEGIN:VCALENDAR
VERSION:2.0
PRODID:-//Actu.Art - ECPv6.15.13//NONSGML v1.0//EN
CALSCALE:GREGORIAN
METHOD:PUBLISH
X-WR-CALNAME:Actu.Art
X-ORIGINAL-URL:https://actu.art
X-WR-CALDESC:Évènements pour Actu.Art
BEGIN:VTIMEZONE
TZID:Europe/Paris
BEGIN:DAYLIGHT
TZOFFSETFROM:+0100
TZOFFSETTO:+0200
TZNAME:CEST
DTSTART:20160327T010000
END:DAYLIGHT
BEGIN:STANDARD
TZOFFSETFROM:+0200
TZOFFSETTO:+0100
TZNAME:CET
DTSTART:20161030T010000
END:STANDARD
BEGIN:DAYLIGHT
TZOFFSETFROM:+0100
TZOFFSETTO:+0200
TZNAME:CEST
DTSTART:20170326T010000
END:DAYLIGHT
BEGIN:STANDARD
TZOFFSETFROM:+0200
TZOFFSETTO:+0100
TZNAME:CET
DTSTART:20171029T010000
END:STANDARD
BEGIN:DAYLIGHT
TZOFFSETFROM:+0100
TZOFFSETTO:+0200
TZNAME:CEST
DTSTART:20180325T010000
END:DAYLIGHT
BEGIN:STANDARD
TZOFFSETFROM:+0200
TZOFFSETTO:+0100
TZNAME:CET
DTSTART:20181028T010000
END:STANDARD
END:VTIMEZONE
BEGIN:VEVENT
DTSTART;TZID=Europe/Paris:20170615T090000
DTEND;TZID=Europe/Paris:20170925T180000
DTSTAMP:20260423T211249
CREATED:20170827T171929Z
LAST-MODIFIED:20210210T190449Z
UID:2016-1497517200-1506362400@actu.art
SUMMARY:Dessiner la grandeur
DESCRIPTION:Le dessin à Gênes à l’époque de la République. \nNichée entre la Méditerranée et les crêtes des Apennins\, la ville de Gênes est\, par sa configuration\, l’un des trésors italiens les plus difficiles d’accès. Inondée d’une lumière qui rend son charme unique\, elle n’a pourtant jamais cessé de susciter l’émerveillement de tous ceux qui\, artistes comme passionnés d’art\, en ont découvert la somptuosité depuis la mer. \nPuissance économique incontournable tout au long de l’époque moderne\, la République de Gênes (1528-1797) a fleuri comme centre artistique de premier rang grâce à  la volonté des riches familles locales qui ont ainsi magnifié leur pouvoir. À l’occasion de la publication de l’Inventaire général des dessins italiens du musée du Louvre. Tome XI. Dessins génois XVIe-XVIIIe siècle\, qui compte 463 feuilles\, le public est invité à découvrir la grandeur artistique de cette ville grâce à un parcours de plus de 80 dessins\, ponctué par des estampes et des tableaux. \nDe Luca Cambiaso jusqu’à Alessandro Magnasco\, cette exposition présente les feuilles les plus significatives\, accompagnées de découvertes\, avec deux objectifs : illustrer le travail de recherche sur le fonds de la collection et dévoiler la finesse et l’élégance des artistes qui ont fait la renommée de cette république maritime entre le 16e et le 18e siècle.
URL:https://actu.art/event/dessiner-grandeur-dessin-a-genes-a-lepoque-de-republique-15-juin-2017-25-septembre-2017/
LOCATION:Musée du Louvre\, rue de Rivoli\, Paris 01\, Paris\, 75001\, France
CATEGORIES:Notre Sélection
ATTACH;FMTTYPE=image/jpeg:https://actu.art/wp-content/uploads/2017/08/Dessiner-la-grandeur-500x381.jpg
GEO:48.8557059;2.3589484
X-APPLE-STRUCTURED-LOCATION;VALUE=URI;X-ADDRESS=Musée du Louvre rue de Rivoli Paris 01 Paris 75001 France;X-APPLE-RADIUS=500;X-TITLE=rue de Rivoli:geo:2.3589484,48.8557059
END:VEVENT
END:VCALENDAR