BEGIN:VCALENDAR
VERSION:2.0
PRODID:-//Actu.Art - ECPv6.15.13//NONSGML v1.0//EN
CALSCALE:GREGORIAN
METHOD:PUBLISH
X-WR-CALNAME:Actu.Art
X-ORIGINAL-URL:https://actu.art
X-WR-CALDESC:Évènements pour Actu.Art
BEGIN:VTIMEZONE
TZID:Europe/Paris
BEGIN:DAYLIGHT
TZOFFSETFROM:+0100
TZOFFSETTO:+0200
TZNAME:CEST
DTSTART:20210328T010000
END:DAYLIGHT
BEGIN:STANDARD
TZOFFSETFROM:+0200
TZOFFSETTO:+0100
TZNAME:CET
DTSTART:20211031T010000
END:STANDARD
BEGIN:DAYLIGHT
TZOFFSETFROM:+0100
TZOFFSETTO:+0200
TZNAME:CEST
DTSTART:20220327T010000
END:DAYLIGHT
BEGIN:STANDARD
TZOFFSETFROM:+0200
TZOFFSETTO:+0100
TZNAME:CET
DTSTART:20221030T010000
END:STANDARD
BEGIN:DAYLIGHT
TZOFFSETFROM:+0100
TZOFFSETTO:+0200
TZNAME:CEST
DTSTART:20230326T010000
END:DAYLIGHT
BEGIN:STANDARD
TZOFFSETFROM:+0200
TZOFFSETTO:+0100
TZNAME:CET
DTSTART:20231029T010000
END:STANDARD
END:VTIMEZONE
BEGIN:VEVENT
DTSTART;TZID=Europe/Paris:20220316T093000
DTEND;TZID=Europe/Paris:20220627T173000
DTSTAMP:20260424T181011
CREATED:20220217T211356Z
LAST-MODIFIED:20220323T081945Z
UID:41976-1647423000-1656351000@actu.art
SUMMARY:Delacroix et la nature
DESCRIPTION:Si Eugène Delacroix apprécie les promenades dans la nature\, il a néanmoins représenté très peu de paysages purs. Des paysages souvent utilisés dans ses tableaux comme un fond pour des scènes de l’histoire ou de la littérature ou pour des portraits : en harmonie avec le modèle\, à la manière de la peinture anglaise. Les animaux tiennent\, quant à eux\, une grande place dans son œuvre. L’exposition aborde\, pour la première fois\, cette question du rapport entre Delacroix et la nature.
URL:https://actu.art/event/delacroix-et-la-nature/
LOCATION:Musée National Eugène Delacroix\, 6\, rue de Furstenberg\, Paris\, Paris\, 75006\, France
CATEGORIES:Notre Sélection
ATTACH;FMTTYPE=image/jpeg:https://actu.art/wp-content/uploads/2022/02/Delacroix-et-la-Nature.jpg
GEO:48.8544106;2.3356553
X-APPLE-STRUCTURED-LOCATION;VALUE=URI;X-ADDRESS=Musée National Eugène Delacroix 6 rue de Furstenberg Paris Paris 75006 France;X-APPLE-RADIUS=500;X-TITLE=6\, rue de Furstenberg:geo:2.3356553,48.8544106
END:VEVENT
END:VCALENDAR