BEGIN:VCALENDAR
VERSION:2.0
PRODID:-//Actu.Art - ECPv6.15.13//NONSGML v1.0//EN
CALSCALE:GREGORIAN
METHOD:PUBLISH
X-WR-CALNAME:Actu.Art
X-ORIGINAL-URL:https://actu.art
X-WR-CALDESC:Évènements pour Actu.Art
BEGIN:VTIMEZONE
TZID:Europe/Paris
BEGIN:DAYLIGHT
TZOFFSETFROM:+0100
TZOFFSETTO:+0200
TZNAME:CEST
DTSTART:20180325T010000
END:DAYLIGHT
BEGIN:STANDARD
TZOFFSETFROM:+0200
TZOFFSETTO:+0100
TZNAME:CET
DTSTART:20181028T010000
END:STANDARD
BEGIN:DAYLIGHT
TZOFFSETFROM:+0100
TZOFFSETTO:+0200
TZNAME:CEST
DTSTART:20190331T010000
END:DAYLIGHT
BEGIN:STANDARD
TZOFFSETFROM:+0200
TZOFFSETTO:+0100
TZNAME:CET
DTSTART:20191027T010000
END:STANDARD
BEGIN:DAYLIGHT
TZOFFSETFROM:+0100
TZOFFSETTO:+0200
TZNAME:CEST
DTSTART:20200329T010000
END:DAYLIGHT
BEGIN:STANDARD
TZOFFSETFROM:+0200
TZOFFSETTO:+0100
TZNAME:CET
DTSTART:20201025T010000
END:STANDARD
BEGIN:DAYLIGHT
TZOFFSETFROM:+0100
TZOFFSETTO:+0200
TZNAME:CEST
DTSTART:20210328T010000
END:DAYLIGHT
BEGIN:STANDARD
TZOFFSETFROM:+0200
TZOFFSETTO:+0100
TZNAME:CET
DTSTART:20211031T010000
END:STANDARD
END:VTIMEZONE
BEGIN:VEVENT
DTSTART;TZID=Europe/Paris:20190924T093000
DTEND;TZID=Europe/Paris:20200119T180000
DTSTAMP:20260425T002723
CREATED:20190224T173105Z
LAST-MODIFIED:20200107T204812Z
UID:6886-1569317400-1579456800@actu.art
SUMMARY:Degas à l'Opéra
DESCRIPTION:Sur toute sa carrière\, de ses débuts dans les années 1860 jusqu’à ses oeuvres ultimes au-delà de 1900\, Degas a fait de l’Opéra le point central de ses travaux\, sa « chambre à lui ». Il en explore les divers espaces – salle et scène\, loges\, foyer\, salle de danse -\, s’attache à ceux qui les peuplent\, danseuses\, chanteurs\, musiciens de l’orchestre\, spectateurs\, abonnés en habit noir hantant les coulisses. Cet univers clos est un microcosme aux infinies possibilités et permet toutes les expérimentations : multiplicité des points de vue\, contraste des éclairages\, étude du mouvement et de la vérité du geste. \nAucune exposition jusqu’ici n’a envisagé l’Opéra globalement\, étudiant tout à la fois le lien passionné que Degas avait avec cette maison\, ses goûts musicaux\, mais aussi les infinies ressources de cette merveilleuse « boîte à outils ». À travers l’œuvre d’un immense artiste\, le portrait de l’Opéra de Paris au XIXe siècle.
URL:https://actu.art/event/degas-a-lopera/
LOCATION:Musée d’Orsay\, Esplanade Valéry Giscard d'Estaing\, Paris\, Paris\, 75007\, France
CATEGORIES:Notre Sélection
ATTACH;FMTTYPE=image/jpeg:https://actu.art/wp-content/uploads/2019/02/Degas-à-lOpéra.jpg
GEO:48.8601715;2.326074
X-APPLE-STRUCTURED-LOCATION;VALUE=URI;X-ADDRESS=Musée d’Orsay Esplanade Valéry Giscard d'Estaing Paris Paris 75007 France;X-APPLE-RADIUS=500;X-TITLE=Esplanade Valéry Giscard d'Estaing:geo:2.326074,48.8601715
END:VEVENT
END:VCALENDAR