BEGIN:VCALENDAR
VERSION:2.0
PRODID:-//Actu.Art - ECPv6.15.13//NONSGML v1.0//EN
CALSCALE:GREGORIAN
METHOD:PUBLISH
X-WR-CALNAME:Actu.Art
X-ORIGINAL-URL:https://actu.art
X-WR-CALDESC:Évènements pour Actu.Art
BEGIN:VTIMEZONE
TZID:Europe/Paris
BEGIN:DAYLIGHT
TZOFFSETFROM:+0100
TZOFFSETTO:+0200
TZNAME:CEST
DTSTART:20240331T010000
END:DAYLIGHT
BEGIN:STANDARD
TZOFFSETFROM:+0200
TZOFFSETTO:+0100
TZNAME:CET
DTSTART:20241027T010000
END:STANDARD
BEGIN:DAYLIGHT
TZOFFSETFROM:+0100
TZOFFSETTO:+0200
TZNAME:CEST
DTSTART:20250330T010000
END:DAYLIGHT
BEGIN:STANDARD
TZOFFSETFROM:+0200
TZOFFSETTO:+0100
TZNAME:CET
DTSTART:20251026T010000
END:STANDARD
BEGIN:DAYLIGHT
TZOFFSETFROM:+0100
TZOFFSETTO:+0200
TZNAME:CEST
DTSTART:20260329T010000
END:DAYLIGHT
BEGIN:STANDARD
TZOFFSETFROM:+0200
TZOFFSETTO:+0100
TZNAME:CET
DTSTART:20261025T010000
END:STANDARD
END:VTIMEZONE
BEGIN:VEVENT
DTSTART;VALUE=DATE:20250506
DTEND;VALUE=DATE:20250509
DTSTAMP:20260426T054917
CREATED:20250423T211429Z
LAST-MODIFIED:20250423T211429Z
UID:115577-1746489600-1746748799@actu.art
SUMMARY:Débordement : LeBigDam
DESCRIPTION:Durant son cursus aux Beaux-Arts de Marseille\, où Lebigdam a été diplômé\, une question majeure a rythmé sa création : Comment la contemplation enfantine peut être une réponse à l’enfermement mental moderne ? Pour y répondre\, il développe un univers graphique coloré\, naïf\, inspiré d’influences pop. Il utilise le processus du doodle art* et envahit différents espaces avec ses personnages. Il crée ces pièces de la même manière avec une routine de peinture établie et ses étapes : croquis\, mise en couleurs\, cernage en noir\, détails\, vernis. \nMais\, en menant ces projets\, il s’est heurté à une contradiction : ses créatures devenaient elles-mêmes contraintes\, enfermées par le support choisi\, impactées par le format et la méthode de création et finalement piégées par leurs propres limites. \nC’est pour tenter de s’en affranchir que l’idée de Débordement est née\, une série proposée qui est une suite de peintures aux doigts sur papier en format A3. La simplicité de la technique et du support utilisés renouent avec le monde de l’enfance par ces différentes créatures laissées libres sur leur format. \nEnviron 600 dessins\, disposés les uns à côté des autres\, envahissent toute la galerie\, du mur\, au plafond et jusqu’au sol. Les personnages y demeurent libres et unis par cet accrochage. Mais le processus va plus loin et propose à chaque visiteur.euses\, s’iels le désirent\, de devenir actif.ves et de décrocher les dessins pour créer des espaces vides et fragmenter l’ensemble. Les personnages\, détachés\, sortent alors de la galerie où une nouvelle liberté leur est conférée. \nCela permet une relation renouvelée entre les œuvres et le public\, casse les codes traditionnels de la galerie en rendant vivant l’accrochage. Par ce processus\, l’exposition devient une nouvelle création éphémère où chacun.e est invité.e à participer. \n* Le Doodle art\, inspiré de l’art africain et des travaux de l’artiste Keith Haring\, s’appuie sur la répétition d’un ou de plusieurs motifs.
URL:https://actu.art/event/debordement-lebigdam/
LOCATION:Galerie M\, Rue Lally-Tollendal 18\, Paris\, Département de Paris\, 75019\, France
CATEGORIES:Expositions Galeries
ATTACH;FMTTYPE=image/jpeg:https://actu.art/wp-content/uploads/2025/04/Debordement_LeBigDam.jpg
GEO:48.8834;2.3738655
X-APPLE-STRUCTURED-LOCATION;VALUE=URI;X-ADDRESS=Galerie M Rue Lally-Tollendal 18 Paris Département de Paris 75019 France;X-APPLE-RADIUS=500;X-TITLE=Rue Lally-Tollendal 18:geo:2.3738655,48.8834
END:VEVENT
END:VCALENDAR