BEGIN:VCALENDAR
VERSION:2.0
PRODID:-//Actu.Art - ECPv6.15.13//NONSGML v1.0//EN
CALSCALE:GREGORIAN
METHOD:PUBLISH
X-WR-CALNAME:Actu.Art
X-ORIGINAL-URL:https://actu.art
X-WR-CALDESC:Évènements pour Actu.Art
BEGIN:VTIMEZONE
TZID:Europe/Paris
BEGIN:DAYLIGHT
TZOFFSETFROM:+0100
TZOFFSETTO:+0200
TZNAME:CEST
DTSTART:20180325T010000
END:DAYLIGHT
BEGIN:STANDARD
TZOFFSETFROM:+0200
TZOFFSETTO:+0100
TZNAME:CET
DTSTART:20181028T010000
END:STANDARD
BEGIN:DAYLIGHT
TZOFFSETFROM:+0100
TZOFFSETTO:+0200
TZNAME:CEST
DTSTART:20190331T010000
END:DAYLIGHT
BEGIN:STANDARD
TZOFFSETFROM:+0200
TZOFFSETTO:+0100
TZNAME:CET
DTSTART:20191027T010000
END:STANDARD
BEGIN:DAYLIGHT
TZOFFSETFROM:+0100
TZOFFSETTO:+0200
TZNAME:CEST
DTSTART:20200329T010000
END:DAYLIGHT
BEGIN:STANDARD
TZOFFSETFROM:+0200
TZOFFSETTO:+0100
TZNAME:CET
DTSTART:20201025T010000
END:STANDARD
END:VTIMEZONE
BEGIN:VEVENT
DTSTART;TZID=Europe/Paris:20190515T093000
DTEND;TZID=Europe/Paris:20190930T173000
DTSTAMP:20260424T152921
CREATED:20190519T161007Z
LAST-MODIFIED:20190915T073601Z
UID:7561-1557912600-1569864600@actu.art
SUMMARY:Dans l'atelier : la création à l'œuvre
DESCRIPTION:Depuis 2014\, un des axes majeurs de la politique de recherche du musée Delacroix est dédié à l’étude de l’atelier des artistes : un lieu de création ; sujet et modèle de nombreuses représentations. La transformation d’un atelier en musée pose la question de la création et de la créativité artistique. Le parcours d’exposition s’intéresse ici à cette transformation\, dans ses différentes étapes et conséquences.
URL:https://actu.art/event/dans-latelier-la-creation-a-loeuvre/
LOCATION:Musée National Eugène Delacroix\, 6\, rue de Furstenberg\, Paris\, Paris\, 75006\, France
CATEGORIES:Notre Sélection
ATTACH;FMTTYPE=image/jpeg:https://actu.art/wp-content/uploads/2019/05/Dans_l_atelier_la_creation_a_l_uvre.jpg
GEO:48.8544106;2.3356553
X-APPLE-STRUCTURED-LOCATION;VALUE=URI;X-ADDRESS=Musée National Eugène Delacroix 6 rue de Furstenberg Paris Paris 75006 France;X-APPLE-RADIUS=500;X-TITLE=6\, rue de Furstenberg:geo:2.3356553,48.8544106
END:VEVENT
END:VCALENDAR