BEGIN:VCALENDAR
VERSION:2.0
PRODID:-//Actu.Art - ECPv6.15.13//NONSGML v1.0//EN
CALSCALE:GREGORIAN
METHOD:PUBLISH
X-WR-CALNAME:Actu.Art
X-ORIGINAL-URL:https://actu.art
X-WR-CALDESC:Évènements pour Actu.Art
BEGIN:VTIMEZONE
TZID:Europe/Paris
BEGIN:DAYLIGHT
TZOFFSETFROM:+0100
TZOFFSETTO:+0200
TZNAME:CEST
DTSTART:20190331T010000
END:DAYLIGHT
BEGIN:STANDARD
TZOFFSETFROM:+0200
TZOFFSETTO:+0100
TZNAME:CET
DTSTART:20191027T010000
END:STANDARD
BEGIN:DAYLIGHT
TZOFFSETFROM:+0100
TZOFFSETTO:+0200
TZNAME:CEST
DTSTART:20200329T010000
END:DAYLIGHT
BEGIN:STANDARD
TZOFFSETFROM:+0200
TZOFFSETTO:+0100
TZNAME:CET
DTSTART:20201025T010000
END:STANDARD
BEGIN:DAYLIGHT
TZOFFSETFROM:+0100
TZOFFSETTO:+0200
TZNAME:CEST
DTSTART:20210328T010000
END:DAYLIGHT
BEGIN:STANDARD
TZOFFSETFROM:+0200
TZOFFSETTO:+0100
TZNAME:CET
DTSTART:20211031T010000
END:STANDARD
BEGIN:DAYLIGHT
TZOFFSETFROM:+0100
TZOFFSETTO:+0200
TZNAME:CEST
DTSTART:20220327T010000
END:DAYLIGHT
BEGIN:STANDARD
TZOFFSETFROM:+0200
TZOFFSETTO:+0100
TZNAME:CET
DTSTART:20221030T010000
END:STANDARD
END:VTIMEZONE
BEGIN:VEVENT
DTSTART;TZID=Europe/Paris:20200306T093000
DTEND;TZID=Europe/Paris:20210103T180000
DTSTAMP:20260425T160247
CREATED:20200303T211353Z
LAST-MODIFIED:20230208T145706Z
UID:19457-1583487000-1609696800@actu.art
SUMMARY:Dali\, l'énigme sans fin
DESCRIPTION:En 2020\, les Carrières de Lumières s’illuminent des oeuvres célèbres et singulières de Salvador Dalí. « Dalí\, l’énigme sans fin » revient sur plus de 60 années créatrices du maître catalan qui a parcouru et inventé plusieurs styles artistiques. \nÀ travers un parcours thématique\, vous vous promenez dans des paysages surréalistes et métaphysiques et se retrouve au coeur des oeuvres surprenantes de l’artiste à l’imagination débordante. Peintures\, dessins\, photographies\, sculptures\, gravures\, films et images d’archives rappellent la personnalité unique du peintre à la moustache célèbre mais également ses obsessions pour l’étrange et le surnaturel ainsi que sa fascination pour sa femme Gala\, sa véritable muse. \nDes chefs-d’oeuvre emblématiques\, des Montres molles au Visage de Mae West en passant par Léda Atomique et La tentation de Saint Antoine\, révèlent le talent de Dalí\, créateur de nouveaux langages et de toiles uniques\, inspirées des grands maîtres de la peinture tels que Vélasquez\, Raphaël\, Vermeer ou Millet. \nLa nouvelle création révèle les miroirs de la pensée du peintre dans une atmosphère presque hypnotique et revient sur les différentes facettes de l’artiste. De ses recherches initiales impressionnistes et cubistes à ses oeuvres mystiques aux thématiques religieuses en passant par sa période surréaliste et ses rapports à la scène\, à la photographie et au cinéma. \nL’ensemble de l’exposition numérique est rythmé par les musiques de Pink Floyd. Expérimentant sans cesse et rejetant tout mécanisme rationnel\, ces deux icônes de la peinture et de la musique partagent un imaginaire visuel étonnant où visions obsessionnelles et virtuosité technique se mêlent. Les couleurs profondes\, les forme étirées et volumineuses des toiles de Dalí se dessinent sur les murs au son de titres issus d’albums mythiques tels que The Dark Side of the Moon et The Wall pour immerger le visiteur dans un univers planant\, paisible ou troublant. \nCette rétrospective\, associée à la musique du groupe légendaire des années 1960\, propose un voyage hors du temps qui réveille l’inconscient où l’oeuvre de Dalí reste un mystère et une énigme sans fin
URL:https://actu.art/event/dali-lenigme-sans-fin/
LOCATION:Carrières de Lumières\, Route de Maillane\, Les Baux-de-Provence\, Bouches-du-Rhône\, 13520\, France
CATEGORIES:Notre Sélection
ATTACH;FMTTYPE=image/jpeg:https://actu.art/wp-content/uploads/2020/06/Dali-lenigme-sans-fin.jpg
GEO:43.8043299;4.820747
X-APPLE-STRUCTURED-LOCATION;VALUE=URI;X-ADDRESS=Carrières de Lumières Route de Maillane Les Baux-de-Provence Bouches-du-Rhône 13520 France;X-APPLE-RADIUS=500;X-TITLE=Route de Maillane:geo:4.820747,43.8043299
END:VEVENT
END:VCALENDAR