BEGIN:VCALENDAR
VERSION:2.0
PRODID:-//Actu.Art - ECPv6.15.13//NONSGML v1.0//EN
CALSCALE:GREGORIAN
METHOD:PUBLISH
X-WR-CALNAME:Actu.Art
X-ORIGINAL-URL:https://actu.art
X-WR-CALDESC:Évènements pour Actu.Art
BEGIN:VTIMEZONE
TZID:Europe/Paris
BEGIN:DAYLIGHT
TZOFFSETFROM:+0100
TZOFFSETTO:+0200
TZNAME:CEST
DTSTART:20240331T010000
END:DAYLIGHT
BEGIN:STANDARD
TZOFFSETFROM:+0200
TZOFFSETTO:+0100
TZNAME:CET
DTSTART:20241027T010000
END:STANDARD
BEGIN:DAYLIGHT
TZOFFSETFROM:+0100
TZOFFSETTO:+0200
TZNAME:CEST
DTSTART:20250330T010000
END:DAYLIGHT
BEGIN:STANDARD
TZOFFSETFROM:+0200
TZOFFSETTO:+0100
TZNAME:CET
DTSTART:20251026T010000
END:STANDARD
BEGIN:DAYLIGHT
TZOFFSETFROM:+0100
TZOFFSETTO:+0200
TZNAME:CEST
DTSTART:20260329T010000
END:DAYLIGHT
BEGIN:STANDARD
TZOFFSETFROM:+0200
TZOFFSETTO:+0100
TZNAME:CET
DTSTART:20261025T010000
END:STANDARD
END:VTIMEZONE
BEGIN:VEVENT
DTSTART;TZID=Europe/Paris:20250511T080000
DTEND;TZID=Europe/Paris:20250511T170000
DTSTAMP:20260426T043144
CREATED:20250509T155225Z
LAST-MODIFIED:20250509T160151Z
UID:117508-1746950400-1746982800@actu.art
SUMMARY:Couleurs de Bretagne - Moustoir-Ac
DESCRIPTION:Concours de peinture gratuits et ouverts à tous dans 53 villes et villages bretons. Tous les artistes\, quels que soit leur âge et leur niveau sont invités à venir peindre sur le motif\, le riche patrimoine breton. Chaque artiste fournit son support. Toutes les techniques à plat sont autorisées (huile\, aquarelle\, dessin\, collages). La participation est gratuite.
URL:https://actu.art/event/couleurs-de-bretagne-moustoir-ac/
LOCATION:École Les Petits Chaj’du\, 6\, espace Ker-an-Holl\, Moustoir-Ac\, 56500
CATEGORIES:Concours Dessin/Peinture/Sculpture
ATTACH;FMTTYPE=image/jpeg:https://actu.art/wp-content/uploads/2024/06/Couleurs-de-Bretagne.jpg
ORGANIZER;CN="Couleurs de Bretagne":MAILTO:couleurs-de-bretagne@orange.fr
GEO:47.85597;-2.833802
X-APPLE-STRUCTURED-LOCATION;VALUE=URI;X-ADDRESS=École Les Petits Chaj’du 6 espace Ker-an-Holl Moustoir-Ac 56500;X-APPLE-RADIUS=500;X-TITLE=6\, espace Ker-an-Holl:geo:-2.833802,47.85597
END:VEVENT
END:VCALENDAR