BEGIN:VCALENDAR
VERSION:2.0
PRODID:-//Actu.Art - ECPv6.15.13//NONSGML v1.0//EN
CALSCALE:GREGORIAN
METHOD:PUBLISH
X-WR-CALNAME:Actu.Art
X-ORIGINAL-URL:https://actu.art
X-WR-CALDESC:Évènements pour Actu.Art
BEGIN:VTIMEZONE
TZID:Europe/Paris
BEGIN:DAYLIGHT
TZOFFSETFROM:+0100
TZOFFSETTO:+0200
TZNAME:CEST
DTSTART:20240331T010000
END:DAYLIGHT
BEGIN:STANDARD
TZOFFSETFROM:+0200
TZOFFSETTO:+0100
TZNAME:CET
DTSTART:20241027T010000
END:STANDARD
BEGIN:DAYLIGHT
TZOFFSETFROM:+0100
TZOFFSETTO:+0200
TZNAME:CEST
DTSTART:20250330T010000
END:DAYLIGHT
BEGIN:STANDARD
TZOFFSETFROM:+0200
TZOFFSETTO:+0100
TZNAME:CET
DTSTART:20251026T010000
END:STANDARD
BEGIN:DAYLIGHT
TZOFFSETFROM:+0100
TZOFFSETTO:+0200
TZNAME:CEST
DTSTART:20260329T010000
END:DAYLIGHT
BEGIN:STANDARD
TZOFFSETFROM:+0200
TZOFFSETTO:+0100
TZNAME:CET
DTSTART:20261025T010000
END:STANDARD
END:VTIMEZONE
BEGIN:VEVENT
DTSTART;TZID=Europe/Paris:20250430T090000
DTEND;TZID=Europe/Paris:20251109T180000
DTSTAMP:20260422T004239
CREATED:20250501T173016Z
LAST-MODIFIED:20250501T173016Z
UID:116667-1746003600-1762711200@actu.art
SUMMARY:Corto Maltese : Un monde en aventures
DESCRIPTION:Entre mers interdites et rivages barbares\, Hugo Pratt nous dessine les lignes d’horizons du plus célèbre des marins\, Corto Maltese pour un monde en aventures et en aventureuses. \nEntrez dans l’univers de cet aventurier\, respirez l’air du grand large et parcourez la terre ferme de l’Afrique à la Sibérie à travers des planches\, des aquarelles et des dessins originaux. \nDécouvrez le héros à la ligne de chance tracée d’un coup de rasoir\, celui qui va de l’île du Moine au continent Mu\, des déserts glaces de Sibérie aux pâturages helvétiques\, accompagne du rythme lancinant des derviches tourneurs\, ou du chant mystérieux d’une harpe celtique\, de la vénéneuse Venexiana à la douce Pandora qui presque le tua.
URL:https://actu.art/event/corto-maltese-un-monde-en-aventures/
LOCATION:Saline Royale d’Arc-et-Senans\, Grande Rue\, Arc et Senans\, Doubs\, 25610\, France
CATEGORIES:Expositions
ATTACH;FMTTYPE=image/jpeg:https://actu.art/wp-content/uploads/2025/05/Corto_Maltese_Un_monde_en_aventures.jpg
GEO:47.0316771;5.7786131
X-APPLE-STRUCTURED-LOCATION;VALUE=URI;X-ADDRESS=Saline Royale d’Arc-et-Senans Grande Rue Arc et Senans Doubs 25610 France;X-APPLE-RADIUS=500;X-TITLE=Grande Rue:geo:5.7786131,47.0316771
END:VEVENT
END:VCALENDAR