BEGIN:VCALENDAR
VERSION:2.0
PRODID:-//Actu.Art - ECPv6.15.13//NONSGML v1.0//EN
CALSCALE:GREGORIAN
METHOD:PUBLISH
X-WR-CALNAME:Actu.Art
X-ORIGINAL-URL:https://actu.art
X-WR-CALDESC:Évènements pour Actu.Art
BEGIN:VTIMEZONE
TZID:Europe/Paris
BEGIN:DAYLIGHT
TZOFFSETFROM:+0100
TZOFFSETTO:+0200
TZNAME:CEST
DTSTART:20250330T010000
END:DAYLIGHT
BEGIN:STANDARD
TZOFFSETFROM:+0200
TZOFFSETTO:+0100
TZNAME:CET
DTSTART:20251026T010000
END:STANDARD
BEGIN:DAYLIGHT
TZOFFSETFROM:+0100
TZOFFSETTO:+0200
TZNAME:CEST
DTSTART:20260329T010000
END:DAYLIGHT
BEGIN:STANDARD
TZOFFSETFROM:+0200
TZOFFSETTO:+0100
TZNAME:CET
DTSTART:20261025T010000
END:STANDARD
BEGIN:DAYLIGHT
TZOFFSETFROM:+0100
TZOFFSETTO:+0200
TZNAME:CEST
DTSTART:20270328T010000
END:DAYLIGHT
BEGIN:STANDARD
TZOFFSETFROM:+0200
TZOFFSETTO:+0100
TZNAME:CET
DTSTART:20271031T010000
END:STANDARD
END:VTIMEZONE
BEGIN:VEVENT
DTSTART;TZID=Europe/Paris:20260212T100000
DTEND;TZID=Europe/Paris:20260516T180000
DTSTAMP:20260424T004302
CREATED:20260213T201404Z
LAST-MODIFIED:20260213T201404Z
UID:138470-1770890400-1778954400@actu.art
SUMMARY:Contraste et indifférence
DESCRIPTION:Les artistes réunies dans l’exposition Contraste et indifférence parcourent le monde et se confrontent\, en permanence\, à des contextes étrangers dans lesquels elles s’autorisent à entrer\, avec douceur et attention\, pour témoigner ce qui s’y passe. Le déplacement est essentiel à leur démarche\, tout comme une forme de solitude propice à l’observation et aux rencontres.\nL’exposition réunit les artistes Larissa Fassler\, Cécile Hartmann\, Isabelle Hayeur et Capucine Vever.
URL:https://actu.art/event/contraste-et-indifference/
LOCATION:Centre culturel canadien\, 130 rue du Faubourg Saint-Honoré\, Paris\, Paris\, 75008\, France
CATEGORIES:Expositions
ATTACH;FMTTYPE=image/jpeg:https://actu.art/wp-content/uploads/2026/02/Contraste_et_indifference.jpg
GEO:48.8724446;2.3124318
X-APPLE-STRUCTURED-LOCATION;VALUE=URI;X-ADDRESS=Centre culturel canadien 130 rue du Faubourg Saint-Honoré Paris Paris 75008 France;X-APPLE-RADIUS=500;X-TITLE=130 rue du Faubourg Saint-Honoré:geo:2.3124318,48.8724446
END:VEVENT
END:VCALENDAR