BEGIN:VCALENDAR
VERSION:2.0
PRODID:-//Actu.Art - ECPv6.15.13//NONSGML v1.0//EN
CALSCALE:GREGORIAN
METHOD:PUBLISH
X-WR-CALNAME:Actu.Art
X-ORIGINAL-URL:https://actu.art
X-WR-CALDESC:Évènements pour Actu.Art
BEGIN:VTIMEZONE
TZID:Europe/Paris
BEGIN:DAYLIGHT
TZOFFSETFROM:+0100
TZOFFSETTO:+0200
TZNAME:CEST
DTSTART:20240331T010000
END:DAYLIGHT
BEGIN:STANDARD
TZOFFSETFROM:+0200
TZOFFSETTO:+0100
TZNAME:CET
DTSTART:20241027T010000
END:STANDARD
BEGIN:DAYLIGHT
TZOFFSETFROM:+0100
TZOFFSETTO:+0200
TZNAME:CEST
DTSTART:20250330T010000
END:DAYLIGHT
BEGIN:STANDARD
TZOFFSETFROM:+0200
TZOFFSETTO:+0100
TZNAME:CET
DTSTART:20251026T010000
END:STANDARD
BEGIN:DAYLIGHT
TZOFFSETFROM:+0100
TZOFFSETTO:+0200
TZNAME:CEST
DTSTART:20260329T010000
END:DAYLIGHT
BEGIN:STANDARD
TZOFFSETFROM:+0200
TZOFFSETTO:+0100
TZNAME:CET
DTSTART:20261025T010000
END:STANDARD
END:VTIMEZONE
BEGIN:VEVENT
DTSTART;VALUE=DATE:20250505
DTEND;VALUE=DATE:20250506
DTSTAMP:20260423T054853
CREATED:20250128T235844Z
LAST-MODIFIED:20250309T202152Z
UID:108582-1746403200-1746489599@actu.art
SUMMARY:Concours MEND'ARTS 2025
DESCRIPTION:Pour la 29ème édition\, le concours AMATEUR départemental de dessin et de peinture vous propose de travailler sur le thème des « Créatures fantastiques & mythiques  » . ATTENTION: dépôt des œuvres le 5 et le 7 Mai de 8h à 19h au local de Mend’arts ! Exposition du 14 au 28 Mai à la Chapelle des Pénitents Vernissage : 14 Mai 18h30 / Remise des prix : 28 Mai 18h30
URL:https://actu.art/event/concours-mendarts-2025/
LOCATION:Chapelle des Pénitents\, Rue Pasteur\, Ussel\, Corrèze\, 19200\, France
CATEGORIES:Concours Dessin/Peinture/Sculpture
ATTACH;FMTTYPE=image/jpeg:https://actu.art/wp-content/uploads/2025/01/Concours-Mendarts-2025-1.jpg
GEO:45.544209;2.309806
X-APPLE-STRUCTURED-LOCATION;VALUE=URI;X-ADDRESS=Chapelle des Pénitents Rue Pasteur Ussel Corrèze 19200 France;X-APPLE-RADIUS=500;X-TITLE=Rue Pasteur:geo:2.309806,45.544209
END:VEVENT
END:VCALENDAR