BEGIN:VCALENDAR
VERSION:2.0
PRODID:-//Actu.Art - ECPv6.15.13//NONSGML v1.0//EN
CALSCALE:GREGORIAN
METHOD:PUBLISH
X-WR-CALNAME:Actu.Art
X-ORIGINAL-URL:https://actu.art
X-WR-CALDESC:Évènements pour Actu.Art
BEGIN:VTIMEZONE
TZID:Europe/Paris
BEGIN:DAYLIGHT
TZOFFSETFROM:+0100
TZOFFSETTO:+0200
TZNAME:CEST
DTSTART:20240331T010000
END:DAYLIGHT
BEGIN:STANDARD
TZOFFSETFROM:+0200
TZOFFSETTO:+0100
TZNAME:CET
DTSTART:20241027T010000
END:STANDARD
BEGIN:DAYLIGHT
TZOFFSETFROM:+0100
TZOFFSETTO:+0200
TZNAME:CEST
DTSTART:20250330T010000
END:DAYLIGHT
BEGIN:STANDARD
TZOFFSETFROM:+0200
TZOFFSETTO:+0100
TZNAME:CET
DTSTART:20251026T010000
END:STANDARD
BEGIN:DAYLIGHT
TZOFFSETFROM:+0100
TZOFFSETTO:+0200
TZNAME:CEST
DTSTART:20260329T010000
END:DAYLIGHT
BEGIN:STANDARD
TZOFFSETFROM:+0200
TZOFFSETTO:+0100
TZNAME:CET
DTSTART:20261025T010000
END:STANDARD
END:VTIMEZONE
BEGIN:VEVENT
DTSTART;TZID=Europe/Paris:20251206T000000
DTEND;TZID=Europe/Paris:20251207T235900
DTSTAMP:20260424T074354
CREATED:20251118T135159Z
LAST-MODIFIED:20251118T135159Z
UID:133520-1764979200-1765151940@actu.art
SUMMARY:Concours et exposition photos à Bazainville
DESCRIPTION:Lors de cette exposition\, vous aurez la possibilité de découvrir des œuvres\, mais également de voter pour elles. \nLes résultats seront prévus pour le 7 décembre. \nEntrée libre \nPour plus d’informations\, merci de contacter directement le comité des fêtes de Bazainville.
URL:https://actu.art/event/concours-et-exposition-photos-a-bazainville/
LOCATION:Église de Bazainville\, Place St-Nicolas\, Bazainville\, Yvelines\, 78550
CATEGORIES:Expositions
ATTACH;FMTTYPE=image/jpeg:https://actu.art/wp-content/uploads/2025/11/Concours_et_exposition_photos_a_Bazainville.jpg
GEO:48.8035249;1.6685451
X-APPLE-STRUCTURED-LOCATION;VALUE=URI;X-ADDRESS=Église de Bazainville Place St-Nicolas Bazainville Yvelines 78550;X-APPLE-RADIUS=500;X-TITLE=Place St-Nicolas:geo:1.6685451,48.8035249
END:VEVENT
END:VCALENDAR