BEGIN:VCALENDAR
VERSION:2.0
PRODID:-//Actu.Art - ECPv6.15.13//NONSGML v1.0//EN
CALSCALE:GREGORIAN
METHOD:PUBLISH
X-WR-CALNAME:Actu.Art
X-ORIGINAL-URL:https://actu.art
X-WR-CALDESC:Évènements pour Actu.Art
BEGIN:VTIMEZONE
TZID:Europe/Paris
BEGIN:DAYLIGHT
TZOFFSETFROM:+0100
TZOFFSETTO:+0200
TZNAME:CEST
DTSTART:20240331T010000
END:DAYLIGHT
BEGIN:STANDARD
TZOFFSETFROM:+0200
TZOFFSETTO:+0100
TZNAME:CET
DTSTART:20241027T010000
END:STANDARD
BEGIN:DAYLIGHT
TZOFFSETFROM:+0100
TZOFFSETTO:+0200
TZNAME:CEST
DTSTART:20250330T010000
END:DAYLIGHT
BEGIN:STANDARD
TZOFFSETFROM:+0200
TZOFFSETTO:+0100
TZNAME:CET
DTSTART:20251026T010000
END:STANDARD
BEGIN:DAYLIGHT
TZOFFSETFROM:+0100
TZOFFSETTO:+0200
TZNAME:CEST
DTSTART:20260329T010000
END:DAYLIGHT
BEGIN:STANDARD
TZOFFSETFROM:+0200
TZOFFSETTO:+0100
TZNAME:CET
DTSTART:20261025T010000
END:STANDARD
END:VTIMEZONE
BEGIN:VEVENT
DTSTART;VALUE=DATE:20250907
DTEND;VALUE=DATE:20250908
DTSTAMP:20260420T121800
CREATED:20250417T210611Z
LAST-MODIFIED:20250424T095738Z
UID:115111-1757203200-1757289599@actu.art
SUMMARY:Concours de Peinture en Plein Air
DESCRIPTION:Appel à tous les artistes !\nDimanche 7 septembre 2025\nà Ginouillac (46)\nConcours de Peinture & Dessin « Illustrer Ginouillac »\nCapturer l’essence de Ginouillac à travers votre art.\nPaysages\, architecture\, ambiance\, portrait … tout est possible !\nToutes les techniques sont les bienvenues : peinture\, aquarelle\, pastel\, fusain\, crayon …. \n1er Prix : 300 €2ème Prix : 200 €3ème Prix : 100 €\nRenseignements et Inscriptions :07 49 14 02 87 \nFrais d’inscription le jour même : 1 oeuvre 10 € – 2 oeuvres 16 €\nExposition et vote du public de 16h à 17h 30 \nVenez nombreux découvrir les oeuvres des participants et votez pour votre coup de coeur !\nConcours organisé par le Comité des fêtes de Ginouillac dans le cadre de la fête du village.
URL:https://actu.art/event/concours-de-peinture-en-plein-air-2/
LOCATION:Le Bourg de Ginouillac\, Ginouillac\, Lot\, 46300\, France
CATEGORIES:Concours Dessin/Peinture/Sculpture
ATTACH;FMTTYPE=image/png:https://actu.art/wp-content/uploads/2025/04/Affiche-concours-peinture-2025-1.png
GEO:44.7260388;1.5381264
END:VEVENT
END:VCALENDAR