BEGIN:VCALENDAR
VERSION:2.0
PRODID:-//Actu.Art - ECPv6.15.13//NONSGML v1.0//EN
CALSCALE:GREGORIAN
METHOD:PUBLISH
X-WR-CALNAME:Actu.Art
X-ORIGINAL-URL:https://actu.art
X-WR-CALDESC:Évènements pour Actu.Art
BEGIN:VTIMEZONE
TZID:Europe/Paris
BEGIN:DAYLIGHT
TZOFFSETFROM:+0100
TZOFFSETTO:+0200
TZNAME:CEST
DTSTART:20240331T010000
END:DAYLIGHT
BEGIN:STANDARD
TZOFFSETFROM:+0200
TZOFFSETTO:+0100
TZNAME:CET
DTSTART:20241027T010000
END:STANDARD
BEGIN:DAYLIGHT
TZOFFSETFROM:+0100
TZOFFSETTO:+0200
TZNAME:CEST
DTSTART:20250330T010000
END:DAYLIGHT
BEGIN:STANDARD
TZOFFSETFROM:+0200
TZOFFSETTO:+0100
TZNAME:CET
DTSTART:20251026T010000
END:STANDARD
BEGIN:DAYLIGHT
TZOFFSETFROM:+0100
TZOFFSETTO:+0200
TZNAME:CEST
DTSTART:20260329T010000
END:DAYLIGHT
BEGIN:STANDARD
TZOFFSETFROM:+0200
TZOFFSETTO:+0100
TZNAME:CET
DTSTART:20261025T010000
END:STANDARD
END:VTIMEZONE
BEGIN:VEVENT
DTSTART;VALUE=DATE:20250322
DTEND;VALUE=DATE:20250323
DTSTAMP:20260420T121238
CREATED:20250129T001630Z
LAST-MODIFIED:20250129T001630Z
UID:108586-1742601600-1742687999@actu.art
SUMMARY:Concours d'Art sur le thème "Oser"
DESCRIPTION:Concours organisé par le Magasin Dalbe Salon-de-Provence
URL:https://actu.art/event/concours-dart-sur-le-theme-oser/
LOCATION:Dalbe Salon de Provence\, Z.A. de la Gandonne - 860\, rue Ventadouïro\, Salon de Provence\, 13300\, France
CATEGORIES:Concours Dessin/Peinture/Sculpture
ATTACH;FMTTYPE=image/jpeg:https://actu.art/wp-content/uploads/2025/01/Concours-dArt-sur-le-theme-Oser.jpg
GEO:43.6273808;5.0961775
X-APPLE-STRUCTURED-LOCATION;VALUE=URI;X-ADDRESS=Dalbe Salon de Provence Z.A. de la Gandonne - 860 rue Ventadouïro Salon de Provence 13300 France;X-APPLE-RADIUS=500;X-TITLE=Z.A. de la Gandonne - 860\, rue Ventadouïro:geo:5.0961775,43.6273808
END:VEVENT
END:VCALENDAR