BEGIN:VCALENDAR
VERSION:2.0
PRODID:-//Actu.Art - ECPv6.15.13//NONSGML v1.0//EN
CALSCALE:GREGORIAN
METHOD:PUBLISH
X-WR-CALNAME:Actu.Art
X-ORIGINAL-URL:https://actu.art
X-WR-CALDESC:Évènements pour Actu.Art
BEGIN:VTIMEZONE
TZID:Europe/Paris
BEGIN:DAYLIGHT
TZOFFSETFROM:+0100
TZOFFSETTO:+0200
TZNAME:CEST
DTSTART:20240331T010000
END:DAYLIGHT
BEGIN:STANDARD
TZOFFSETFROM:+0200
TZOFFSETTO:+0100
TZNAME:CET
DTSTART:20241027T010000
END:STANDARD
BEGIN:DAYLIGHT
TZOFFSETFROM:+0100
TZOFFSETTO:+0200
TZNAME:CEST
DTSTART:20250330T010000
END:DAYLIGHT
BEGIN:STANDARD
TZOFFSETFROM:+0200
TZOFFSETTO:+0100
TZNAME:CET
DTSTART:20251026T010000
END:STANDARD
BEGIN:DAYLIGHT
TZOFFSETFROM:+0100
TZOFFSETTO:+0200
TZNAME:CEST
DTSTART:20260329T010000
END:DAYLIGHT
BEGIN:STANDARD
TZOFFSETFROM:+0200
TZOFFSETTO:+0100
TZNAME:CET
DTSTART:20261025T010000
END:STANDARD
END:VTIMEZONE
BEGIN:VEVENT
DTSTART;VALUE=DATE:20250427
DTEND;VALUE=DATE:20250722
DTSTAMP:20260425T035722
CREATED:20250513T195806Z
LAST-MODIFIED:20250513T195806Z
UID:117618-1745712000-1753142399@actu.art
SUMMARY:Concours d’Aquarelle de Chabeuil 2025
DESCRIPTION:Organisé par Chabad’Arts – Avec le soutien de la mairie de Chabeuil \nArtistes amateurs ou professionnels\, mettez Chabeuil en lumière ! Participez à notre tout premier concours d’aquarelle sur le thème « Chabeuil sous tous ses aspects » « Inscriptions jusqu’au 21 juillet – Exposition 21-22 septembre » \nExposez vos œuvres lors des Journées du Patrimoine\, faites-vous connaître\, remportez de magnifiques prix… et rejoignez une aventure unique. \nConditions de participation\nOuvert à tous\, sans limite d’âge ni de niveau. \nŒuvres réalisées uniquement en aquarelle (sans gouache\, acrylique\, collage\, etc.). \nChaque participant peut proposer jusqu’à 3 œuvres (seule une sera jugée pour le concours). \nFormats acceptés : 50×70 cm\, 40×40 cm ou 40×30 cm (hors cadre). \nŒuvres encadrées\, prêtes à être accrochées (verre ou plexiglas autorisé). \nCalendrier\nInscription et dépôt du dossier : avant le 21 juillet 2025 \nDépôt physique des œuvres : à partir du 17 septembre 2025 (Salle Oroeil à Chabeuil) \nExposition publique : 21-22 septembre 2025 \nVernissage : 21 septembre à 18h00 \nRécompenses\nPrix du Jury : \n175 € en bons d’achat (OzArt et Librairie Écriture) \nPalette d’aquarelle \nExposition d’honneur lors du « Chemin des Artistes » (octobre 2025) \nMise en avant dans l’agenda de Chabeuil (4000 exemplaires) \nPrix du Public : \n75 € en bons d’achat \nPalette d’aquarelle \nExposition d’honneur et publication dans l’agenda de la Mairie \nCumul possible : un même artiste peut remporter les deux prix ! \nFrais d’inscription\nDroit d’inscription : 25 € (réglable directement en ligne sur HelloAsso ou exceptionnellement par chèque à Chabad’Arts) \nÀ savoir\nChaque œuvre devra être accompagnée d’un certificat d’authenticité (modèle fourni après inscription). \nEn cas de vente pendant l’exposition\, une commission de 20% sera prélevée au profit de l’association Chabad’Arts. \n 
URL:https://actu.art/event/concours-daquarelle-de-chabeuil-2025/
LOCATION:Espace Oroeil\, Rue Bruyère\, Chabeuil\, Drôme\, 26120\, France
CATEGORIES:Concours Dessin/Peinture/Sculpture
ATTACH;FMTTYPE=image/jpeg:https://actu.art/wp-content/uploads/2025/05/Peindre-Chabeuil.jpg
ORGANIZER;CN="Chabad'Arts":MAILTO:ChabadArts26120@gmail.com
GEO:44.9000763;5.0206409
X-APPLE-STRUCTURED-LOCATION;VALUE=URI;X-ADDRESS=Espace Oroeil Rue Bruyère Chabeuil Drôme 26120 France;X-APPLE-RADIUS=500;X-TITLE=Rue Bruyère:geo:5.0206409,44.9000763
END:VEVENT
END:VCALENDAR