BEGIN:VCALENDAR
VERSION:2.0
PRODID:-//Actu.Art - ECPv6.15.13//NONSGML v1.0//EN
CALSCALE:GREGORIAN
METHOD:PUBLISH
X-WR-CALNAME:Actu.Art
X-ORIGINAL-URL:https://actu.art
X-WR-CALDESC:Évènements pour Actu.Art
BEGIN:VTIMEZONE
TZID:Europe/Paris
BEGIN:DAYLIGHT
TZOFFSETFROM:+0100
TZOFFSETTO:+0200
TZNAME:CEST
DTSTART:20240331T010000
END:DAYLIGHT
BEGIN:STANDARD
TZOFFSETFROM:+0200
TZOFFSETTO:+0100
TZNAME:CET
DTSTART:20241027T010000
END:STANDARD
BEGIN:DAYLIGHT
TZOFFSETFROM:+0100
TZOFFSETTO:+0200
TZNAME:CEST
DTSTART:20250330T010000
END:DAYLIGHT
BEGIN:STANDARD
TZOFFSETFROM:+0200
TZOFFSETTO:+0100
TZNAME:CET
DTSTART:20251026T010000
END:STANDARD
BEGIN:DAYLIGHT
TZOFFSETFROM:+0100
TZOFFSETTO:+0200
TZNAME:CEST
DTSTART:20260329T010000
END:DAYLIGHT
BEGIN:STANDARD
TZOFFSETFROM:+0200
TZOFFSETTO:+0100
TZNAME:CET
DTSTART:20261025T010000
END:STANDARD
END:VTIMEZONE
BEGIN:VEVENT
DTSTART;TZID=Europe/Paris:20250503T140000
DTEND;TZID=Europe/Paris:20250629T180000
DTSTAMP:20260423T004543
CREATED:20250701T192814Z
LAST-MODIFIED:20250701T192814Z
UID:122463-1746280800-1751220000@actu.art
SUMMARY:COBRA   Quand la couleur envahit les murs
DESCRIPTION:Plongez au cœur du mouvement « Cobra » au travers de nombreuses œuvres de plus de 20 artistes.\nCobra est un mouvement artistique international fondé en 1948 par des poètes\nEt artistes de trois nationalités : Belges\, Néerlandais et Danois.\nVous aurez la chance unique de découvrir un grand nombre de ces œuvres qui pour certaines\, datent de 1948\, année de naissance du mouvement. \n« Noir et Couleur» Mais pas que………. Du 3 mai au 1er juin \nClub photo emblématique implanté à Epinal depuis 1906\, Noir et Couleur rassemble chaque année des photographes amateurs\, désirant apprendre la photographie\, le maniement de leurs appareils numériques et avoir une approche ludique des logiciels de traitement… \nC’est un panel de photos en noir et blanc mais aussi en couleurs que vous propose ces passionnés au travers d’une nouvelle expo à la Maison de la Bresse où ils ont leur habitude. Une fin de printemps sous le signe de la légèreté….. \n« Les Maternelles » Du 4 juin au 29 juin\nComme chaque année\, les maternelles de la Tourterelle nous propose une belle expo de leurs travaux réalisés tout au long de l’année. Ces petites mains vont sûrement encore nous surprendre ………..
URL:https://actu.art/event/cobra-quand-la-couleur-envahit-les-murs/
LOCATION:Maison de la Bresse\, Rue de la Clairie\, La Bresse \, Vosges\, 88250\, France
CATEGORIES:Expositions
ATTACH;FMTTYPE=image/jpeg:https://actu.art/wp-content/uploads/2025/07/COBRA_Quand_la_couleur_envahit_les_murs.jpg
GEO:48.0050389;6.878514
X-APPLE-STRUCTURED-LOCATION;VALUE=URI;X-ADDRESS=Maison de la Bresse Rue de la Clairie La Bresse  Vosges 88250 France;X-APPLE-RADIUS=500;X-TITLE=Rue de la Clairie:geo:6.878514,48.0050389
END:VEVENT
END:VCALENDAR