BEGIN:VCALENDAR
VERSION:2.0
PRODID:-//Actu.Art - ECPv6.15.13//NONSGML v1.0//EN
CALSCALE:GREGORIAN
METHOD:PUBLISH
X-WR-CALNAME:Actu.Art
X-ORIGINAL-URL:https://actu.art
X-WR-CALDESC:Évènements pour Actu.Art
BEGIN:VTIMEZONE
TZID:Europe/Paris
BEGIN:DAYLIGHT
TZOFFSETFROM:+0100
TZOFFSETTO:+0200
TZNAME:CEST
DTSTART:20240331T010000
END:DAYLIGHT
BEGIN:STANDARD
TZOFFSETFROM:+0200
TZOFFSETTO:+0100
TZNAME:CET
DTSTART:20241027T010000
END:STANDARD
BEGIN:DAYLIGHT
TZOFFSETFROM:+0100
TZOFFSETTO:+0200
TZNAME:CEST
DTSTART:20250330T010000
END:DAYLIGHT
BEGIN:STANDARD
TZOFFSETFROM:+0200
TZOFFSETTO:+0100
TZNAME:CET
DTSTART:20251026T010000
END:STANDARD
BEGIN:DAYLIGHT
TZOFFSETFROM:+0100
TZOFFSETTO:+0200
TZNAME:CEST
DTSTART:20260329T010000
END:DAYLIGHT
BEGIN:STANDARD
TZOFFSETFROM:+0200
TZOFFSETTO:+0100
TZNAME:CET
DTSTART:20261025T010000
END:STANDARD
END:VTIMEZONE
BEGIN:VEVENT
DTSTART;TZID=Europe/Paris:20250410T110000
DTEND;TZID=Europe/Paris:20250524T180000
DTSTAMP:20260426T001350
CREATED:20250404T150813Z
LAST-MODIFIED:20250404T150813Z
UID:113510-1744282800-1748109600@actu.art
SUMMARY:Claude Viallat - Item
DESCRIPTION:La galerie Ceysson & Bénétière Lyon présente du 10 avril au 24 mai  2025 une exposition dédiée à l’artiste Claude Viallat. Membre fondateur du mouvement Supports/Surfaces\, figure historique de l’abstraction française\, Claude Viallat développe sans relâche une œuvre à la fois immédiatement reconnaissable et sans cesse en mouvement. \nExtraits d’un texte de Bernard Ceysson écrit pour l’exposition Item : \n[…] Claude Viallat n’est pas un artiste visionnaire de lendemains chantants où l’art serait fini. Cette fabrique est celle du recommencement\, définissant son propre temps au fur et à mesure que s’étend l’espace couvert par l’imprégnateur. \n[…] Parce que ce qui se trame dans l’art de Claude Viallat\, c’est bien une sorte de rêverie assez proche de celles des utopistes\, que lui ne veut surtout pas imposer\, qu’il ne décrit pas et pour laquelle il ne promulge aucune législation. Il lui faut\, allez savoir pourquoi\, faire un art à vocation universelle\, un art de reconstruction\, avec les débris\, les restes\, les éboulis d’un monde\, pour lui\, heureusement défait\, sur les ruines duquel une civilisation peut renaître et s’enraciner par et dans la peinture d’abord. C’est-à-dire dans et par la sienne ! \n[…] On retrouve dans l’art de Claude Viallat\, cette même sorte de recommencement civilisationnel dont il fabrique mêmement que Dubuffet les paradigmes. Mais il le fait différemment. D’où l’importance\, chez Viallat\, de l’atelier\, lequel est d’abord le lieu de stockage\, de triage et de conservation des matériaux\, qualifiables\, à la Dubuffet\, de tirés de la vie précaire\, trouvés\, ramassés\, cueillis : non fabriqués. \n[…] Claude Viallat les fabrique\, ses objets\, de ses propres et seules mains\, sans l’aide d’outils\, sans ce que Michel Guérin désigne comme « une troisième main ». Ainsi que\, peut-être\, l’ont fait les premiers hominidés ? Mais on peut penser que ceux-là ont très vite utilisé ce qui était à portée de leurs mains pour briser\, couper\, percer. Ce que Claude Viallat expérimente\, ce sont les limites comme il l’a fait\, le fait et le refait en peinture\, du statut de ce qu’il fabrique : un objet ou une oeuvre d’art à chaque fois reconduits à une origine incertaine de la connaissance.
URL:https://actu.art/event/claude-viallat-item/
LOCATION:Galerie Ceysson & Bénétière – Lyon\, 21 rue Longue\, Lyon\, Rhône\, 69001\, France
CATEGORIES:Expositions Galeries
ATTACH;FMTTYPE=image/jpeg:https://actu.art/wp-content/uploads/2025/04/Viallat-Claude-2024-2024_OB248-Assembling-50x51cm-©CyrilleCauvet-courtesy-CB-copie-scaled.jpg
GEO:45.7654599;4.8337149
X-APPLE-STRUCTURED-LOCATION;VALUE=URI;X-ADDRESS=Galerie Ceysson & Bénétière – Lyon 21 rue Longue Lyon Rhône 69001 France;X-APPLE-RADIUS=500;X-TITLE=21 rue Longue:geo:4.8337149,45.7654599
END:VEVENT
END:VCALENDAR