BEGIN:VCALENDAR
VERSION:2.0
PRODID:-//Actu.Art - ECPv6.15.13//NONSGML v1.0//EN
CALSCALE:GREGORIAN
METHOD:PUBLISH
X-WR-CALNAME:Actu.Art
X-ORIGINAL-URL:https://actu.art
X-WR-CALDESC:Évènements pour Actu.Art
BEGIN:VTIMEZONE
TZID:Europe/Paris
BEGIN:DAYLIGHT
TZOFFSETFROM:+0100
TZOFFSETTO:+0200
TZNAME:CEST
DTSTART:20220327T010000
END:DAYLIGHT
BEGIN:STANDARD
TZOFFSETFROM:+0200
TZOFFSETTO:+0100
TZNAME:CET
DTSTART:20221030T010000
END:STANDARD
BEGIN:DAYLIGHT
TZOFFSETFROM:+0100
TZOFFSETTO:+0200
TZNAME:CEST
DTSTART:20230326T010000
END:DAYLIGHT
BEGIN:STANDARD
TZOFFSETFROM:+0200
TZOFFSETTO:+0100
TZNAME:CET
DTSTART:20231029T010000
END:STANDARD
BEGIN:DAYLIGHT
TZOFFSETFROM:+0100
TZOFFSETTO:+0200
TZNAME:CEST
DTSTART:20240331T010000
END:DAYLIGHT
BEGIN:STANDARD
TZOFFSETFROM:+0200
TZOFFSETTO:+0100
TZNAME:CET
DTSTART:20241027T010000
END:STANDARD
BEGIN:DAYLIGHT
TZOFFSETFROM:+0100
TZOFFSETTO:+0200
TZNAME:CEST
DTSTART:20250330T010000
END:DAYLIGHT
BEGIN:STANDARD
TZOFFSETFROM:+0200
TZOFFSETTO:+0100
TZNAME:CET
DTSTART:20251026T010000
END:STANDARD
END:VTIMEZONE
BEGIN:VEVENT
DTSTART;TZID=Europe/Paris:20231017T103000
DTEND;TZID=Europe/Paris:20240421T183000
DTSTAMP:20260423T210456
CREATED:20230909T144927Z
LAST-MODIFIED:20240115T162111Z
UID:71307-1697538600-1713724200@actu.art
SUMMARY:Chéri Samba\, dans la collection Jean Pigozzi
DESCRIPTION:Chéri Samba – né en 1956 au Congo – est sans conteste le peintre africain le plus célèbre de sa génération. Ambassadeur de la « peinture populaire » de Kinshasa\, il a largement contribué à faire connaître ce mouvement informel avec ses peintures figuratives aux couleurs franches qui interpellent\, dénoncent\, caricaturent et provoquent\, le plus souvent avec humour\, dans un style qui est tout sauf naïf. \nCette exposition au Musée Maillol est la première rétrospective de l’œuvre du peintre\, couvrant 40 ans de création. Elle présente avec plus de 50 tableaux un parcours à travers plusieurs thématiques « sambaïennes » : l’autoportrait comme élément central de sa peinture\, le Congo et l’Afrique\, géopolitique et environnement\, l’histoire de l’art et enfin la femme\, thème avec lequel apparaît dans le musée un dialogue inédit avec l’œuvre de Maillol. \nL’ensemble des œuvres réunies pour l’occasion proviennent de la collection Jean Pigozzi\, la plus importante collection d’art contemporain africain au monde\, qui contribue depuis plus de trente ans à la reconnaissance des artistes d’Afrique sub-saharienne sur la scène internationale. \nUne exposition produite par Tempora et conçue en étroite collaboration avec la collection Jean Pigozzi et le Musée Maillol
URL:https://actu.art/event/cheri-samba-dans-la-collection-jean-pigozzi/
LOCATION:Musée Maillol\, 61 rue de Grenelle\, Paris 07\, Paris\, 75007\, France
CATEGORIES:Notre Sélection
ATTACH;FMTTYPE=image/jpeg:https://actu.art/wp-content/uploads/2023/09/Cheri-Samba-Maillol.jpg
GEO:48.8547222;2.3248284
X-APPLE-STRUCTURED-LOCATION;VALUE=URI;X-ADDRESS=Musée Maillol 61 rue de Grenelle Paris 07 Paris 75007 France;X-APPLE-RADIUS=500;X-TITLE=61 rue de Grenelle:geo:2.3248284,48.8547222
END:VEVENT
END:VCALENDAR