BEGIN:VCALENDAR
VERSION:2.0
PRODID:-//Actu.Art - ECPv6.15.13//NONSGML v1.0//EN
CALSCALE:GREGORIAN
METHOD:PUBLISH
X-WR-CALNAME:Actu.Art
X-ORIGINAL-URL:https://actu.art
X-WR-CALDESC:Évènements pour Actu.Art
BEGIN:VTIMEZONE
TZID:Europe/Paris
BEGIN:DAYLIGHT
TZOFFSETFROM:+0100
TZOFFSETTO:+0200
TZNAME:CEST
DTSTART:20210328T010000
END:DAYLIGHT
BEGIN:STANDARD
TZOFFSETFROM:+0200
TZOFFSETTO:+0100
TZNAME:CET
DTSTART:20211031T010000
END:STANDARD
BEGIN:DAYLIGHT
TZOFFSETFROM:+0100
TZOFFSETTO:+0200
TZNAME:CEST
DTSTART:20220327T010000
END:DAYLIGHT
BEGIN:STANDARD
TZOFFSETFROM:+0200
TZOFFSETTO:+0100
TZNAME:CET
DTSTART:20221030T010000
END:STANDARD
BEGIN:DAYLIGHT
TZOFFSETFROM:+0100
TZOFFSETTO:+0200
TZNAME:CEST
DTSTART:20230326T010000
END:DAYLIGHT
BEGIN:STANDARD
TZOFFSETFROM:+0200
TZOFFSETTO:+0100
TZNAME:CET
DTSTART:20231029T010000
END:STANDARD
END:VTIMEZONE
BEGIN:VEVENT
DTSTART;TZID=Europe/Paris:20220216T110000
DTEND;TZID=Europe/Paris:20220620T230000
DTSTAMP:20260424T072318
CREATED:20220302T203306Z
LAST-MODIFIED:20220520T102154Z
UID:42467-1645009200-1655766000@actu.art
SUMMARY:Charles Ray
DESCRIPTION:Pour la première fois en France\, le Centre Pompidou et la Bourse de commerce/Pinault collection proposent une monographie consacrée à Charles Ray\, figure majeure de la sculpture américaine contemporaine.
URL:https://actu.art/event/charles-ray-2/
LOCATION:Centre Pompidou\, Place Georges-Pompidou\, Paris\, Paris\, 75004\, France
CATEGORIES:Notre Sélection
ATTACH;FMTTYPE=image/jpeg:https://actu.art/wp-content/uploads/2022/03/Charles-Ray-Centre-Pompidou.jpg
GEO:48.860642;2.352245
X-APPLE-STRUCTURED-LOCATION;VALUE=URI;X-ADDRESS=Centre Pompidou Place Georges-Pompidou Paris Paris 75004 France;X-APPLE-RADIUS=500;X-TITLE=Place Georges-Pompidou:geo:2.352245,48.860642
END:VEVENT
END:VCALENDAR