BEGIN:VCALENDAR
VERSION:2.0
PRODID:-//Actu.Art - ECPv6.15.13//NONSGML v1.0//EN
CALSCALE:GREGORIAN
METHOD:PUBLISH
X-WR-CALNAME:Actu.Art
X-ORIGINAL-URL:https://actu.art
X-WR-CALDESC:Évènements pour Actu.Art
BEGIN:VTIMEZONE
TZID:Europe/Paris
BEGIN:DAYLIGHT
TZOFFSETFROM:+0100
TZOFFSETTO:+0200
TZNAME:CEST
DTSTART:20210328T010000
END:DAYLIGHT
BEGIN:STANDARD
TZOFFSETFROM:+0200
TZOFFSETTO:+0100
TZNAME:CET
DTSTART:20211031T010000
END:STANDARD
BEGIN:DAYLIGHT
TZOFFSETFROM:+0100
TZOFFSETTO:+0200
TZNAME:CEST
DTSTART:20220327T010000
END:DAYLIGHT
BEGIN:STANDARD
TZOFFSETFROM:+0200
TZOFFSETTO:+0100
TZNAME:CET
DTSTART:20221030T010000
END:STANDARD
BEGIN:DAYLIGHT
TZOFFSETFROM:+0100
TZOFFSETTO:+0200
TZNAME:CEST
DTSTART:20230326T010000
END:DAYLIGHT
BEGIN:STANDARD
TZOFFSETFROM:+0200
TZOFFSETTO:+0100
TZNAME:CET
DTSTART:20231029T010000
END:STANDARD
END:VTIMEZONE
BEGIN:VEVENT
DTSTART;TZID=Europe/Paris:20220311T100000
DTEND;TZID=Europe/Paris:20220911T180000
DTSTAMP:20260424T193101
CREATED:20220301T221932Z
LAST-MODIFIED:20220302T210940Z
UID:42410-1646992800-1662919200@actu.art
SUMMARY:Charles Camoin Un fauve en liberté
DESCRIPTION:Souvent qualifié de fauve méditerranéen\, Charles Camoin (1879-1965) s’est inscrit\, par ses liens avec Paris et la bohème montmartroise\, dans le cercle de l’avant-garde internationale.\nAffilié au fauvisme\, lié à Matisse\, Marquet et Manguin\, il n’a pour autant jamais renoncé à son indépendance artistique.\nCette exposition permet de redécouvrir l’oeuvre du peintre en intégrant une centaine de tableaux et dessins\, dont certains inédits.
URL:https://actu.art/event/charles-camoin-un-fauve-en-liberte/
LOCATION:Musée de Montmartre\, 12\, Rue Cortot\, Paris\, Paris\, 75018\, France
CATEGORIES:Notre Sélection
ATTACH;FMTTYPE=image/jpeg:https://actu.art/wp-content/uploads/2022/03/Charles-Camoin.jpg
GEO:48.8877029;2.3407154
X-APPLE-STRUCTURED-LOCATION;VALUE=URI;X-ADDRESS=Musée de Montmartre 12 Rue Cortot Paris Paris 75018 France;X-APPLE-RADIUS=500;X-TITLE=12\, Rue Cortot:geo:2.3407154,48.8877029
END:VEVENT
END:VCALENDAR