BEGIN:VCALENDAR
VERSION:2.0
PRODID:-//Actu.Art - ECPv6.15.13//NONSGML v1.0//EN
CALSCALE:GREGORIAN
METHOD:PUBLISH
X-WR-CALNAME:Actu.Art
X-ORIGINAL-URL:https://actu.art
X-WR-CALDESC:Évènements pour Actu.Art
BEGIN:VTIMEZONE
TZID:Europe/Paris
BEGIN:DAYLIGHT
TZOFFSETFROM:+0100
TZOFFSETTO:+0200
TZNAME:CEST
DTSTART:20190331T010000
END:DAYLIGHT
BEGIN:STANDARD
TZOFFSETFROM:+0200
TZOFFSETTO:+0100
TZNAME:CET
DTSTART:20191027T010000
END:STANDARD
BEGIN:DAYLIGHT
TZOFFSETFROM:+0100
TZOFFSETTO:+0200
TZNAME:CEST
DTSTART:20200329T010000
END:DAYLIGHT
BEGIN:STANDARD
TZOFFSETFROM:+0200
TZOFFSETTO:+0100
TZNAME:CET
DTSTART:20201025T010000
END:STANDARD
BEGIN:DAYLIGHT
TZOFFSETFROM:+0100
TZOFFSETTO:+0200
TZNAME:CEST
DTSTART:20210328T010000
END:DAYLIGHT
BEGIN:STANDARD
TZOFFSETFROM:+0200
TZOFFSETTO:+0100
TZNAME:CET
DTSTART:20211031T010000
END:STANDARD
BEGIN:DAYLIGHT
TZOFFSETFROM:+0100
TZOFFSETTO:+0200
TZNAME:CEST
DTSTART:20220327T010000
END:DAYLIGHT
BEGIN:STANDARD
TZOFFSETFROM:+0200
TZOFFSETTO:+0100
TZNAME:CET
DTSTART:20221030T010000
END:STANDARD
END:VTIMEZONE
BEGIN:VEVENT
DTSTART;TZID=Europe/Paris:20201121T100000
DTEND;TZID=Europe/Paris:20210830T190000
DTSTAMP:20260425T211234
CREATED:20210227T222355Z
LAST-MODIFIED:20210608T205300Z
UID:29016-1605952800-1630350000@actu.art
SUMMARY:Chagall. Le passeur de lumière
DESCRIPTION:« Le vitrail est exaltant\, il lui faut de la gravité\, de la passion. Il doit vivre à travers la lumière perçue. » Marc Chagall \nDu 21 novembre 2020 au 15 mars 2021\, le Centre Pompidou-Metz consacre une exposition à Marc Chagall\, explorant l’importance du vitrail dans l’œuvre de l’artiste.\nElle est conçue en partenariat avec le musée national Marc Chagall de Nice\, où elle sera présentée dans une version renouvelée du 24 avril au 20 septembre 2021. \nLes maquettes des vitraux réalisés pour de nombreux édifices entre 1958 et 1984\, dans la région Grand Est (Metz\, Reims\, Sarrebourg)\, l’Allemagne voisine (Mayence)\, le sud de la France (Nice\, Voutezac) et à l’international (Israël\, Etats- Unis\, Angleterre\, Suisse) sont rassemblées et mises en correspondance avec un ensemble de peintures\, sculptures\, céramiques et dessins issus des collections du Centre Pompidou\, du musée national Marc Chagall\, de musées internationaux et de collections particulières. Les vitraux de la chapelle du Saillant\, en Corrèze\, déposés dans le cadre d’une opération de sécurisation\, sont exceptionnellement montrés dans l’exposition. \nCelle-ci éclaire l’histoire de chaque commande\, dans le contexte de la reconstruction et d’un renouveau de l’art sacré après la Seconde Guerre mondiale. Insolites dans le parcours d’un artiste que les racines juives et l’expérience de l’avant-garde semblent a priori éloigner de la tradition du vitrail\, ces commandes lui donnent la possibilité de se confronter à l’échelle monumentale de l’architecture et de toucher un large public. Elles offrent également à l’artiste un cadre privilégié pour déployer sa vision de la Bible\, qu’il considère comme « la plus grande source de poésie de tous les temps » et qui occupe une place centrale dans son œuvre. \nEntrepris dans la dernière période de sa carrière – prolifique et marquée par l’exploration de diverses techniques – \, les vitraux de Chagall révèlent un langage personnel qui associe avec agilité les diverses cultures visuelles et mentales façonnant son imaginaire : celle de Vitebsk\, la ville natale\, où résonnent le yiddish\, les histoires de la Bible et\, au loin\, les chants orthodoxes entonnés dans le miroitement des icônes ; mais aussi celle des avant-gardes découvertes à Paris\, la fragmentation des formes cubistes et le flamboiement des couleurs du fauvisme.\nLe peintre les interprète\, les transforme\, les combine librement au prisme de sa biographie et de l’histoire des églises\, synagogue\, mémorial et musées dans lesquels il intervient.\nLes nombreuses esquisses préparatoires réalisées par Chagall mettent en évidence le processus de création des vitraux\, résultat de l’association du talent du peintre au savoir-faire de Charles Marq et Brigitte Simon\, maîtres-verriers héritiers d’un atelier créé à Reims au XVIIe siècle. Cette exposition est également l’occasion d’observer l’influence réciproque du vitrail et de l’œuvre peint et dessiné de l’artiste. \nCette exposition s’inscrit dans le cadre des célébrations des huit cents ans de la cathédrale de Metz\, dont plusieurs vitraux ont été réalisés par Marc Chagall.
URL:https://actu.art/event/chagall-le-passeur-de-lumiere-2/
LOCATION:Centre Pompidou-Metz\, 1 Parvis des Droits de l’Homme\, Metz\, Moselle\, 57030\, France
CATEGORIES:Notre Sélection
ATTACH;FMTTYPE=image/jpeg:https://actu.art/wp-content/uploads/2021/02/Chagall-le-passeur-de-lumiere-600x800-1.jpg
GEO:49.1082524;6.1816927
X-APPLE-STRUCTURED-LOCATION;VALUE=URI;X-ADDRESS=Centre Pompidou-Metz 1 Parvis des Droits de l’Homme Metz Moselle 57030 France;X-APPLE-RADIUS=500;X-TITLE=1 Parvis des Droits de l’Homme:geo:6.1816927,49.1082524
END:VEVENT
END:VCALENDAR