BEGIN:VCALENDAR
VERSION:2.0
PRODID:-//Actu.Art - ECPv6.15.13//NONSGML v1.0//EN
CALSCALE:GREGORIAN
METHOD:PUBLISH
X-WR-CALNAME:Actu.Art
X-ORIGINAL-URL:https://actu.art
X-WR-CALDESC:Évènements pour Actu.Art
BEGIN:VTIMEZONE
TZID:Europe/Paris
BEGIN:DAYLIGHT
TZOFFSETFROM:+0100
TZOFFSETTO:+0200
TZNAME:CEST
DTSTART:20240331T010000
END:DAYLIGHT
BEGIN:STANDARD
TZOFFSETFROM:+0200
TZOFFSETTO:+0100
TZNAME:CET
DTSTART:20241027T010000
END:STANDARD
BEGIN:DAYLIGHT
TZOFFSETFROM:+0100
TZOFFSETTO:+0200
TZNAME:CEST
DTSTART:20250330T010000
END:DAYLIGHT
BEGIN:STANDARD
TZOFFSETFROM:+0200
TZOFFSETTO:+0100
TZNAME:CET
DTSTART:20251026T010000
END:STANDARD
BEGIN:DAYLIGHT
TZOFFSETFROM:+0100
TZOFFSETTO:+0200
TZNAME:CEST
DTSTART:20260329T010000
END:DAYLIGHT
BEGIN:STANDARD
TZOFFSETFROM:+0200
TZOFFSETTO:+0100
TZNAME:CET
DTSTART:20261025T010000
END:STANDARD
BEGIN:DAYLIGHT
TZOFFSETFROM:+0100
TZOFFSETTO:+0200
TZNAME:CEST
DTSTART:20270328T010000
END:DAYLIGHT
BEGIN:STANDARD
TZOFFSETFROM:+0200
TZOFFSETTO:+0100
TZNAME:CET
DTSTART:20271031T010000
END:STANDARD
END:VTIMEZONE
BEGIN:VEVENT
DTSTART;TZID=Europe/Paris:20250606T100000
DTEND;TZID=Europe/Paris:20260104T180000
DTSTAMP:20260421T005948
CREATED:20250708T205221Z
LAST-MODIFIED:20250708T205614Z
UID:123547-1749204000-1767549600@actu.art
SUMMARY:Cezanne vu d'Aix. Entre légende et mémoire collective
DESCRIPTION:Paul Cezanne est aujourd’hui l’une des figures emblématiques de la ville d’Aix-en-Provence\, mais l’a-t-il toujours été ? C’est ce rapport passionné\, et parfois conflictuel\, entre l’artiste et sa cité\, que l’exposition  » Cezanne vu d’Aix  » explore.\nElle retrace le contexte artistique et culturel aixois de la fin du XIXe et du début du XXe siècle\, auquel le peintre a dû se confronter durant son vivant. Cette exposition passionnante présente un grand nombre d’artistes impactés par Cezanne\, avec comme grands noms : Joseph Ravaisou\, ou encore Édouard Ducros ainsi que Marcel Provence qui a racheté l’Atelier de Cezanne.\nPeintures\, photographies\, documents d’archive et objets patrimoniaux vous aident à comprendre la réception de l’artiste dans sa ville natale\, de son rejet jusqu’à sa glorification. \nLongtemps associée à l’architecture de son centre historique et sa lumière\, la ville d’Aix-en-Provence est aujourd’hui intrinsèquement liée à la figure du peintre Paul Cezanne (1839-1906). C’est pourtant une relation qui n’est pas toujours allée de soi. Dans la société aixoise\, la réception de ses œuvres est contrastée : il a quelques émules mais beaucoup de détracteurs. Cezanne s’est formé à Paris\, a participé à la révolution impressionniste dans les années 1870\, avant de se consacrer à une démarche picturale très personnelle\, des années 1880 à 1906. Il scrute son environnement\, et en particulier les paysages de la campagne aixoise\,\npour comprendre comment ce qu’il observe peut se traduire en peinture. Cela le conduit à développer une technique picturale qui lui est singulière (aplats de couleur\, cernes\, suppression de la perspective géométrique…) et qui demeure largement incomprise dans les cercles artistiques aixois\, encore très académiques. Une véritable cabale est menée par l’élite aixoise contre Cezanne\, à commencer par la figure d’Henri Dobler. Ce collectionneur\, artiste\, journaliste… parlait du peintre comme de « la plus grande escroquerie du siècle ». Cette opposition virulente envers Cezanne et sa peinture se révèle efficace : alors que le peintre est aujourd’hui célébré partout dans la ville d’Aix\, aucune de ses œuvres n’y a été acquise\, seules quelques unes y sont visibles. \nMusée d’histoire de ville\, le musée du Vieil Aix s’attachera à interroger le rapport de la cité d’Aix- en-Provence à cet artiste. L’exposition présentera le contexte artistique et culturel aixois de la fin du XIXe et du début du XXe siècle\, auxquels se confronte Cezanne lorsqu’il travaille à Aix : les salons\, les cercles de sociabilité\, les attentes qui conditionnent la création picturale\, l’opposition qu’il rencontre\, jusqu’à sa réhabilitation. Marcel Provence\, grande figure de l’histoire locale\, rachète en effet l’atelier\nde l’artiste\, l’atelier des Lauves\, en 1921. Ce fervent folkloriste\, militant régionaliste\, œuvre assidûment à promouvoir la connaissance de l’artiste en créant la Société Paul Cezanne et en travaillant à préserver et enrichir les archives à son sujet. Seront présentés dans le parcours d’exposition des artistes tenants de l’Académisme\, les anti-cézaniens\, ainsi que ses contemporains adeptes du plein-airisme comme Joseph Ravaisou ou Edouard Ducros. Peintures\, photographie\, documents d’archives et objets patrimoniaux permettront de comprendre la révolution que connaît la réception de l’artiste dans sa ville natale\, du rejet jusqu’à la glorification de l’artiste fétiche. \nVisites commentées sur réservation (avec médiateur musée) jusqu’au 15 septembre\, le mardi et le samedi à 11h.\nInformations pratiques\nDu 06/06/2025 au 04/01/2026 le mardi\, mercredi\, jeudi\, vendredi et les week-ends de 10h à 18h.\nJusqu’au 30 septembre\, puis selon horaires du musée.
URL:https://actu.art/event/cezanne-vu-daix-entre-legende-et-memoire-collective-2/
LOCATION:Musée du Vieil Aix\, 17 rue Gaston de Saporta\, Aix-en-Provence \, Bouches-du-Rhône\, 13100\, France
CATEGORIES:Expositions Temporaires
ATTACH;FMTTYPE=image/jpeg:https://actu.art/wp-content/uploads/2025/07/Cezanne_vu_d_Aix_Entre_legende_et_memoire_collective.jpg
GEO:43.5308411;5.4473946
X-APPLE-STRUCTURED-LOCATION;VALUE=URI;X-ADDRESS=Musée du Vieil Aix 17 rue Gaston de Saporta Aix-en-Provence  Bouches-du-Rhône 13100 France;X-APPLE-RADIUS=500;X-TITLE=17 rue Gaston de Saporta:geo:5.4473946,43.5308411
END:VEVENT
END:VCALENDAR