BEGIN:VCALENDAR
VERSION:2.0
PRODID:-//Actu.Art - ECPv6.15.13//NONSGML v1.0//EN
CALSCALE:GREGORIAN
METHOD:PUBLISH
X-WR-CALNAME:Actu.Art
X-ORIGINAL-URL:https://actu.art
X-WR-CALDESC:Évènements pour Actu.Art
BEGIN:VTIMEZONE
TZID:Europe/Paris
BEGIN:DAYLIGHT
TZOFFSETFROM:+0100
TZOFFSETTO:+0200
TZNAME:CEST
DTSTART:20210328T010000
END:DAYLIGHT
BEGIN:STANDARD
TZOFFSETFROM:+0200
TZOFFSETTO:+0100
TZNAME:CET
DTSTART:20211031T010000
END:STANDARD
BEGIN:DAYLIGHT
TZOFFSETFROM:+0100
TZOFFSETTO:+0200
TZNAME:CEST
DTSTART:20220327T010000
END:DAYLIGHT
BEGIN:STANDARD
TZOFFSETFROM:+0200
TZOFFSETTO:+0100
TZNAME:CET
DTSTART:20221030T010000
END:STANDARD
BEGIN:DAYLIGHT
TZOFFSETFROM:+0100
TZOFFSETTO:+0200
TZNAME:CEST
DTSTART:20230326T010000
END:DAYLIGHT
BEGIN:STANDARD
TZOFFSETFROM:+0200
TZOFFSETTO:+0100
TZNAME:CET
DTSTART:20231029T010000
END:STANDARD
BEGIN:DAYLIGHT
TZOFFSETFROM:+0100
TZOFFSETTO:+0200
TZNAME:CEST
DTSTART:20240331T010000
END:DAYLIGHT
BEGIN:STANDARD
TZOFFSETFROM:+0200
TZOFFSETTO:+0100
TZNAME:CET
DTSTART:20241027T010000
END:STANDARD
END:VTIMEZONE
BEGIN:VEVENT
DTSTART;TZID=Europe/Paris:20220218T100000
DTEND;TZID=Europe/Paris:20230120T180000
DTSTAMP:20260424T043645
CREATED:20211218T193107Z
LAST-MODIFIED:20230208T144330Z
UID:40637-1645178400-1674237600@actu.art
SUMMARY:Cézanne\, lumières de Provence
DESCRIPTION:La création artistique de Gianfranco Iannuzzi révèle la tourmente intime de Cézanne\, la force de ses constructions\, son rapport à la lumière et aux couleurs ainsi que son lien avec la nature ; son grand modèle et sa référence obsessionnelle. Le parcours thématique\, intime et introspectif\, propose une immersion dans la nature\, sous les grandes frondaisons des arbres et forêts\, des parcs et jardins où se reposent les baigneuses ; pour finir sur la nature cézannienne.
URL:https://actu.art/event/cezanne-lumieres-de-provence/
LOCATION:La Halle – Atelier des Lumières\, 38 rue Saint-Maur\, Paris\, Paris\, 75011\, France
CATEGORIES:Notre Sélection
ATTACH;FMTTYPE=image/jpeg:https://actu.art/wp-content/uploads/2021/12/Cezanne-Lumieres-de-Provence.jpg
GEO:48.8616146;2.380813
X-APPLE-STRUCTURED-LOCATION;VALUE=URI;X-ADDRESS=La Halle – Atelier des Lumières 38 rue Saint-Maur Paris Paris 75011 France;X-APPLE-RADIUS=500;X-TITLE=38 rue Saint-Maur:geo:2.380813,48.8616146
END:VEVENT
END:VCALENDAR