BEGIN:VCALENDAR
VERSION:2.0
PRODID:-//Actu.Art - ECPv6.15.13//NONSGML v1.0//EN
CALSCALE:GREGORIAN
METHOD:PUBLISH
X-WR-CALNAME:Actu.Art
X-ORIGINAL-URL:https://actu.art
X-WR-CALDESC:Évènements pour Actu.Art
BEGIN:VTIMEZONE
TZID:Europe/Paris
BEGIN:DAYLIGHT
TZOFFSETFROM:+0100
TZOFFSETTO:+0200
TZNAME:CEST
DTSTART:20190331T010000
END:DAYLIGHT
BEGIN:STANDARD
TZOFFSETFROM:+0200
TZOFFSETTO:+0100
TZNAME:CET
DTSTART:20191027T010000
END:STANDARD
BEGIN:DAYLIGHT
TZOFFSETFROM:+0100
TZOFFSETTO:+0200
TZNAME:CEST
DTSTART:20200329T010000
END:DAYLIGHT
BEGIN:STANDARD
TZOFFSETFROM:+0200
TZOFFSETTO:+0100
TZNAME:CET
DTSTART:20201025T010000
END:STANDARD
BEGIN:DAYLIGHT
TZOFFSETFROM:+0100
TZOFFSETTO:+0200
TZNAME:CEST
DTSTART:20210328T010000
END:DAYLIGHT
BEGIN:STANDARD
TZOFFSETFROM:+0200
TZOFFSETTO:+0100
TZNAME:CET
DTSTART:20211031T010000
END:STANDARD
BEGIN:DAYLIGHT
TZOFFSETFROM:+0100
TZOFFSETTO:+0200
TZNAME:CEST
DTSTART:20220327T010000
END:DAYLIGHT
BEGIN:STANDARD
TZOFFSETFROM:+0200
TZOFFSETTO:+0100
TZNAME:CET
DTSTART:20221030T010000
END:STANDARD
END:VTIMEZONE
BEGIN:VEVENT
DTSTART;TZID=Europe/Paris:20200227T100000
DTEND;TZID=Europe/Paris:20210103T180000
DTSTAMP:20260425T184437
CREATED:20190912T171125Z
LAST-MODIFIED:20200918T214955Z
UID:16567-1582797600-1609696800@actu.art
SUMMARY:Cézanne et l'Italie des Maîtres
DESCRIPTION:Le musée Marmottan Monet organise\, du 27 février au 5 juillet 2020\, une exposition inédite intitulée « Cézanne et l’Italie des maîtres». Pour la première fois l’œuvre de l’aixois sera mise en regard de chefs-d’œuvre des plus grands maîtres italiens\, du XVIIe au XIXe siècle. Ainsi une exceptionnelle sélection de toiles de Cézanne dont l’iconique Montagne Sainte-Victoire\, les incontournables Pastorale et natures-mortes\, feront face à un rare ensemble de peintures anciennes signées Tintoret\, Le Greco\, Ribera\, Giordano\, Poussin\, et pour les modernes Carrà\, Sironi\, Soffici\, Pirandello sans oublier Boccioni et Morandi.
URL:https://actu.art/event/cezanne-et-litalie-des-maitres/
LOCATION:Musée Marmottan-Monet\, 2 Rue Louis Boilly\, Paris\, Paris\, 75016\, France
CATEGORIES:Notre Sélection
ATTACH;FMTTYPE=image/jpeg:https://actu.art/wp-content/uploads/2019/09/Cézanne-et-lItalie-des-Maîtres-560x800.jpg
GEO:48.8592981;2.2673572
X-APPLE-STRUCTURED-LOCATION;VALUE=URI;X-ADDRESS=Musée Marmottan-Monet 2 Rue Louis Boilly Paris Paris 75016 France;X-APPLE-RADIUS=500;X-TITLE=2 Rue Louis Boilly:geo:2.2673572,48.8592981
END:VEVENT
END:VCALENDAR