BEGIN:VCALENDAR
VERSION:2.0
PRODID:-//Actu.Art - ECPv6.15.13//NONSGML v1.0//EN
CALSCALE:GREGORIAN
METHOD:PUBLISH
X-WR-CALNAME:Actu.Art
X-ORIGINAL-URL:https://actu.art
X-WR-CALDESC:Évènements pour Actu.Art
BEGIN:VTIMEZONE
TZID:Europe/Paris
BEGIN:DAYLIGHT
TZOFFSETFROM:+0100
TZOFFSETTO:+0200
TZNAME:CEST
DTSTART:20160327T010000
END:DAYLIGHT
BEGIN:STANDARD
TZOFFSETFROM:+0200
TZOFFSETTO:+0100
TZNAME:CET
DTSTART:20161030T010000
END:STANDARD
BEGIN:DAYLIGHT
TZOFFSETFROM:+0100
TZOFFSETTO:+0200
TZNAME:CEST
DTSTART:20170326T010000
END:DAYLIGHT
BEGIN:STANDARD
TZOFFSETFROM:+0200
TZOFFSETTO:+0100
TZNAME:CET
DTSTART:20171029T010000
END:STANDARD
BEGIN:DAYLIGHT
TZOFFSETFROM:+0100
TZOFFSETTO:+0200
TZNAME:CEST
DTSTART:20180325T010000
END:DAYLIGHT
BEGIN:STANDARD
TZOFFSETFROM:+0200
TZOFFSETTO:+0100
TZNAME:CET
DTSTART:20181028T010000
END:STANDARD
BEGIN:DAYLIGHT
TZOFFSETFROM:+0100
TZOFFSETTO:+0200
TZNAME:CEST
DTSTART:20190331T010000
END:DAYLIGHT
BEGIN:STANDARD
TZOFFSETFROM:+0200
TZOFFSETTO:+0100
TZNAME:CET
DTSTART:20191027T010000
END:STANDARD
END:VTIMEZONE
BEGIN:VEVENT
DTSTART;TZID=Europe/Paris:20171212T110000
DTEND;TZID=Europe/Paris:20180326T210000
DTSTAMP:20260419T190855
CREATED:20171021T190704Z
LAST-MODIFIED:20210210T190355Z
UID:2725-1513076400-1522098000@actu.art
SUMMARY:César – La grande rétrospective au Centre Pompidou
DESCRIPTION:L’oeuvre de César\, sculpteur majeur du Nouveau Réalisme\, est à redécouvrir au Centre Pompidou\, du 13 décembre 2017 au 23 mars 2018. 20 ans après sa disparition\, l’artiste marseillais est toujours d’actualité avec ses oeuvres critiques de la société et de notre surconsommation. Le Centre Pompidou rend hommage à Baldaccini César\, dit César\, dans une grande rétrospective\, qui réunit une centaine d’œuvres venues du monde entier. Jusqu’à sa mort à l′âge de 77 ans en 1998\, l’artiste n’arrêtera pas de choquer et d’intriguer avec des œuvres violentes\, à l’instar de ses Compressions\, ces œuvres faites d’objets de tôle et de métal compressé (voitures\, canettes de cola\, Jaguar\, fourchettes…) ou de ses Expansions\, des sculptures hors du temps qui représentent divers liquides s’étant figés après avoir coulé d’un contenant et les Empreintes humaines qui ajoutent à l’œuvre de César une dimension nouvelle née de la volonté de cartographier le corps féminin. César a ainsi offert à Paris et à sa région\, un Centaure\, trônant dans le 6e arrondissement\, un pouce géant du côté de la Défense\, sa sépulture au cimetière du Montparnasse\, La Vénus à Villetaneuse et les Championnes\, tour de voitures compressées visibles à Jouy-en-Josas !
URL:https://actu.art/event/cesar-grande-retrospective-centre-pompidou/
LOCATION:Centre Pompidou\, Place Georges-Pompidou\, Paris\, Paris\, 75004\, France
CATEGORIES:Notre Sélection
ATTACH;FMTTYPE=image/jpeg:https://actu.art/wp-content/uploads/2017/10/César-la-grande-rétrospective-au-centre-Pompidou.jpg
GEO:48.860642;2.352245
X-APPLE-STRUCTURED-LOCATION;VALUE=URI;X-ADDRESS=Centre Pompidou Place Georges-Pompidou Paris Paris 75004 France;X-APPLE-RADIUS=500;X-TITLE=Place Georges-Pompidou:geo:2.352245,48.860642
END:VEVENT
END:VCALENDAR