BEGIN:VCALENDAR
VERSION:2.0
PRODID:-//Actu.Art - ECPv6.15.13//NONSGML v1.0//EN
CALSCALE:GREGORIAN
METHOD:PUBLISH
X-WR-CALNAME:Actu.Art
X-ORIGINAL-URL:https://actu.art
X-WR-CALDESC:Évènements pour Actu.Art
BEGIN:VTIMEZONE
TZID:Europe/Paris
BEGIN:DAYLIGHT
TZOFFSETFROM:+0100
TZOFFSETTO:+0200
TZNAME:CEST
DTSTART:20220327T010000
END:DAYLIGHT
BEGIN:STANDARD
TZOFFSETFROM:+0200
TZOFFSETTO:+0100
TZNAME:CET
DTSTART:20221030T010000
END:STANDARD
BEGIN:DAYLIGHT
TZOFFSETFROM:+0100
TZOFFSETTO:+0200
TZNAME:CEST
DTSTART:20230326T010000
END:DAYLIGHT
BEGIN:STANDARD
TZOFFSETFROM:+0200
TZOFFSETTO:+0100
TZNAME:CET
DTSTART:20231029T010000
END:STANDARD
BEGIN:DAYLIGHT
TZOFFSETFROM:+0100
TZOFFSETTO:+0200
TZNAME:CEST
DTSTART:20240331T010000
END:DAYLIGHT
BEGIN:STANDARD
TZOFFSETFROM:+0200
TZOFFSETTO:+0100
TZNAME:CET
DTSTART:20241027T010000
END:STANDARD
END:VTIMEZONE
BEGIN:VEVENT
DTSTART;TZID=Europe/Paris:20230307T103000
DTEND;TZID=Europe/Paris:20230827T180000
DTSTAMP:20260423T022226
CREATED:20230101T164934Z
LAST-MODIFIED:20230616T201309Z
UID:54016-1678185000-1693159200@actu.art
SUMMARY:Célébration Picasso - la collection prend des couleurs
DESCRIPTION:Le 8 avril 2023 marque le cinquantième anniversaire de la disparition de Pablo Picasso et place ainsi l’année sous le signe de la célébration de son œuvre et de son héritage artistique en France\, en Espagne et à l’international. \nÀ l’occasion de cette année anniversaire\, le Musée national Picasso-Paris invite le designer britannique Sir Paul Smith\, connu pour son travail sur la couleur\, le sur-mesure et le kitsch\, à signer la direction artistique d’un accrochage exceptionnel\, mettant à l’honneur la collection du musée. \nCet accrochage conçu avec la complicité de Sir Paul Smith se déploie autour des chefs-d’œuvre de la collection. L’approche unique que le designer porte sur les œuvres invite le public à les envisager à travers une lecture plus contemporaine\, et souligne le caractère toujours actuel du travail de Picasso. Aussi\, les univers des deux créateurs se rencontrent parfois\, comme autour d’un amour partagé pour les objets\, pour le costume ou l’espièglerie\, proposant des rapprochements et une mise en espace des œuvres résolument inventive et spectaculaire ! \nLe parcours est ponctué d’œuvres d’artistes contemporains internationaux. Ainsi\, Guillermo Kuitca\, Obi Okigbo\, Mickalene Thomas et Chéri Samba participent de cette même volonté d’ouvrir de nouvelles perspectives sur la postérité de l’œuvre de Picasso\, en questionnant son image ou en reprenant à leur compte\, certaines de ses innovations plastiques.
URL:https://actu.art/event/celebration-picasso-la-collection-prend-des-couleurs/
LOCATION:Musée Picasso\, Hôtel Salé - 5\, rue Thorigny\, Paris\, Paris\, 75003\, France
CATEGORIES:Notre Sélection
ATTACH;FMTTYPE=image/jpeg:https://actu.art/wp-content/uploads/2023/01/Celebration-Picasso-la-collection-prend-des-couleurs.jpg
GEO:48.8598774;2.3622849
X-APPLE-STRUCTURED-LOCATION;VALUE=URI;X-ADDRESS=Musée Picasso Hôtel Salé - 5 rue Thorigny Paris Paris 75003 France;X-APPLE-RADIUS=500;X-TITLE=Hôtel Salé - 5\, rue Thorigny:geo:2.3622849,48.8598774
END:VEVENT
END:VCALENDAR