BEGIN:VCALENDAR
VERSION:2.0
PRODID:-//Actu.Art - ECPv6.15.13//NONSGML v1.0//EN
CALSCALE:GREGORIAN
METHOD:PUBLISH
X-WR-CALNAME:Actu.Art
X-ORIGINAL-URL:https://actu.art
X-WR-CALDESC:Évènements pour Actu.Art
BEGIN:VTIMEZONE
TZID:Europe/Paris
BEGIN:DAYLIGHT
TZOFFSETFROM:+0100
TZOFFSETTO:+0200
TZNAME:CEST
DTSTART:20240331T010000
END:DAYLIGHT
BEGIN:STANDARD
TZOFFSETFROM:+0200
TZOFFSETTO:+0100
TZNAME:CET
DTSTART:20241027T010000
END:STANDARD
BEGIN:DAYLIGHT
TZOFFSETFROM:+0100
TZOFFSETTO:+0200
TZNAME:CEST
DTSTART:20250330T010000
END:DAYLIGHT
BEGIN:STANDARD
TZOFFSETFROM:+0200
TZOFFSETTO:+0100
TZNAME:CET
DTSTART:20251026T010000
END:STANDARD
BEGIN:DAYLIGHT
TZOFFSETFROM:+0100
TZOFFSETTO:+0200
TZNAME:CEST
DTSTART:20260329T010000
END:DAYLIGHT
BEGIN:STANDARD
TZOFFSETFROM:+0200
TZOFFSETTO:+0100
TZNAME:CET
DTSTART:20261025T010000
END:STANDARD
END:VTIMEZONE
BEGIN:VEVENT
DTSTART;TZID=Europe/Paris:20251224T000000
DTEND;TZID=Europe/Paris:20251228T235900
DTSTAMP:20260419T144820
CREATED:20251127T213413Z
LAST-MODIFIED:20251127T213413Z
UID:134435-1766534400-1766966340@actu.art
SUMMARY:Carré à la farine – Le caractère – Choso
DESCRIPTION:Pour le 40e anniversaire de « Choso – Le Caractère »\, le maître calligraphe Kakushô convie ses plus talentueuses disciples à Versailles. Après avoir exposé au Japon et aux quatre coins de la France\, le collectif d’artistes japonais présente ici l’aboutissement de son travail de recherche sur la manière de transposer\, dans l’art contemporain\, la dimension à la fois abstraite et visuelle des caractères d’écriture chinois.\nDepuis leur apparition il y a plus de 3 500 ans\, les sinogrammes ont représenté de manière figurative\, à travers les traits qui composent ces figures\, des éléments du réel ou des concepts. La démarche du collectif d’artistes « Choso » s’inscrit dans cette tradition en présentant des œuvres conceptuelles figuratives qui partent du caractère d’écriture comme vecteur de cette abstraction.\nL’exposition accueille également la 4e édition de l’exposition « Sho wo manabu » (Apprendre la calligraphie) qui présente les œuvres d’écoliers\, collégiens et lycéens japonais sélectionnées par un comité d’experts.\nVernissage le mardi 23 décembre de 18h30 à 20h
URL:https://actu.art/event/carre-a-la-farine-le-caractere-choso/
LOCATION:Galerie du Carré à la Farine\, Marché Notre-Dame. 70\, bis rue de la Paroisse\, Versailles\, Yvelines\, 78000\, France
CATEGORIES:Expositions
ATTACH;FMTTYPE=image/jpeg:https://actu.art/wp-content/uploads/2025/11/Carre_a_la_farine_Le_caractere_Choso.jpg
GEO:48.8063688;2.1325105
X-APPLE-STRUCTURED-LOCATION;VALUE=URI;X-ADDRESS=Galerie du Carré à la Farine Marché Notre-Dame. 70 bis rue de la Paroisse Versailles Yvelines 78000 France;X-APPLE-RADIUS=500;X-TITLE=Marché Notre-Dame. 70\, bis rue de la Paroisse:geo:2.1325105,48.8063688
END:VEVENT
END:VCALENDAR