BEGIN:VCALENDAR
VERSION:2.0
PRODID:-//Actu.Art - ECPv6.15.13//NONSGML v1.0//EN
CALSCALE:GREGORIAN
METHOD:PUBLISH
X-WR-CALNAME:Actu.Art
X-ORIGINAL-URL:https://actu.art
X-WR-CALDESC:Évènements pour Actu.Art
BEGIN:VTIMEZONE
TZID:Europe/Paris
BEGIN:DAYLIGHT
TZOFFSETFROM:+0100
TZOFFSETTO:+0200
TZNAME:CEST
DTSTART:20240331T010000
END:DAYLIGHT
BEGIN:STANDARD
TZOFFSETFROM:+0200
TZOFFSETTO:+0100
TZNAME:CET
DTSTART:20241027T010000
END:STANDARD
BEGIN:DAYLIGHT
TZOFFSETFROM:+0100
TZOFFSETTO:+0200
TZNAME:CEST
DTSTART:20250330T010000
END:DAYLIGHT
BEGIN:STANDARD
TZOFFSETFROM:+0200
TZOFFSETTO:+0100
TZNAME:CET
DTSTART:20251026T010000
END:STANDARD
BEGIN:DAYLIGHT
TZOFFSETFROM:+0100
TZOFFSETTO:+0200
TZNAME:CEST
DTSTART:20260329T010000
END:DAYLIGHT
BEGIN:STANDARD
TZOFFSETFROM:+0200
TZOFFSETTO:+0100
TZNAME:CET
DTSTART:20261025T010000
END:STANDARD
END:VTIMEZONE
BEGIN:VEVENT
DTSTART;TZID=Europe/Paris:20250704T100000
DTEND;TZID=Europe/Paris:20250706T173000
DTSTAMP:20260419T175610
CREATED:20250325T230541Z
LAST-MODIFIED:20250325T230541Z
UID:112738-1751623200-1751823000@actu.art
SUMMARY:Carnet de voyage au Festival du Lin
DESCRIPTION:Le festival du lin et de la fibre artistique\, est un évènement qui rassemble des artistes et des professionnels du lin et du tissus. Pendant 3 jours\, les artistes exposent leurs créations dans des lieux insolites souvent peu ouvert au public. C’est une belle occasion de découvrir la vallée du Dun et ses environs\, ainsi que les multiples possibilités de l’art textile ! \nJe vous propose de découvrir ce festival un carnet à la main. Nous suivrons le parcours proposé afin de découvrir les lieux d’expositions\, les villages\, les artistes et leurs oeuvres. Je vous inviterai à garder une trace originale et personnelle de cette déambulation à travers dessins\, aquarelles\, collages\, empreintes et écritures. \nQue vous soyez débutants ou initiés\, je vous accompagne en vous proposant des thèmes ou des sujets variés\, et en vous donnant les conseils techniques dont vous pouvez avoir besoin. \nPour vous inscrire auprès d’Emmanuelle : www.lartensoi-lalere.com \nPour réserver votre chambre au Presbytère : info@presbytere-gonnetot.fr \nou Agnès 06 80 70 33 16
URL:https://actu.art/event/carnet-de-voyage-au-festival-du-lin/
LOCATION:Le Presbytère de Gonnetot\, Grande Rue\, Gonnetot\, Seine-Maritime\, 76730
CATEGORIES:Stages
ATTACH;FMTTYPE=image/jpeg:https://actu.art/wp-content/uploads/2025/03/Carnet_de_voyage_au_Festival_du_Lin.jpg
END:VEVENT
END:VCALENDAR