BEGIN:VCALENDAR
VERSION:2.0
PRODID:-//Actu.Art - ECPv6.15.13//NONSGML v1.0//EN
CALSCALE:GREGORIAN
METHOD:PUBLISH
X-WR-CALNAME:Actu.Art
X-ORIGINAL-URL:https://actu.art
X-WR-CALDESC:Évènements pour Actu.Art
BEGIN:VTIMEZONE
TZID:Europe/Paris
BEGIN:DAYLIGHT
TZOFFSETFROM:+0100
TZOFFSETTO:+0200
TZNAME:CEST
DTSTART:20160327T010000
END:DAYLIGHT
BEGIN:STANDARD
TZOFFSETFROM:+0200
TZOFFSETTO:+0100
TZNAME:CET
DTSTART:20161030T010000
END:STANDARD
BEGIN:DAYLIGHT
TZOFFSETFROM:+0100
TZOFFSETTO:+0200
TZNAME:CEST
DTSTART:20170326T010000
END:DAYLIGHT
BEGIN:STANDARD
TZOFFSETFROM:+0200
TZOFFSETTO:+0100
TZNAME:CET
DTSTART:20171029T010000
END:STANDARD
BEGIN:DAYLIGHT
TZOFFSETFROM:+0100
TZOFFSETTO:+0200
TZNAME:CEST
DTSTART:20180325T010000
END:DAYLIGHT
BEGIN:STANDARD
TZOFFSETFROM:+0200
TZOFFSETTO:+0100
TZNAME:CET
DTSTART:20181028T010000
END:STANDARD
END:VTIMEZONE
BEGIN:VEVENT
DTSTART;TZID=Europe/Paris:20170223T100000
DTEND;TZID=Europe/Paris:20170702T180000
DTSTAMP:20260424T090426
CREATED:20170521T135154Z
LAST-MODIFIED:20210210T190508Z
UID:1395-1487844000-1499018400@actu.art
SUMMARY:Camille Pissarro « Le premier des impressionnistes »
DESCRIPTION:Le musée Marmottan Monet présente\, du 23 février au 2 juillet 2017\, la première exposition monographique Camille Pissarro organisée à Paris depuis 36 ans. Quelque soixante-quinze de ses chefs-d’œuvre\, peintures et tempéras\, provenant des plus grands musées du monde entier et de prestigieuses collections privées\, retracent l’œuvre de Camille Pissarro\, de sa jeunesse dans les Antilles danoises jusqu’aux grandes séries urbaines de Paris\, Rouen et Le Havre de la fin de sa vie. Considéré par Cézanne comme « le premier des impressionnistes »\, Pissarro est l’un des fondateurs de ce groupe. Il est également le seul à participer à leurs huit expositions. Compagnon et ami fidèle de Monet\, maître de Cézanne et de Gauguin\, inspirateur de Seurat\, défenseur de Signac\, Pissarro est un artiste majeur et incontournable. Intellectuel polyglotte\, engagé et militant\, à l’écoute des jeunes générations\, son œuvre\, puissante et en perpétuelle évolution\, offre un panorama unique des recherches qui ont animé les cercles impressionnistes et postimpressionnistes de la seconde moitié du XIXème siècle.\n\n\n\n 
URL:https://actu.art/event/camille-pissaro-premier-impressionnistes/
LOCATION:Musée Marmottan-Monet\, 2 Rue Louis Boilly\, Paris\, Paris\, 75016\, France
CATEGORIES:Notre Sélection
ATTACH;FMTTYPE=image/png:https://actu.art/wp-content/uploads/2017/05/Exposition-Pissarro-e1495374972806.png
GEO:48.8592981;2.2673572
X-APPLE-STRUCTURED-LOCATION;VALUE=URI;X-ADDRESS=Musée Marmottan-Monet 2 Rue Louis Boilly Paris Paris 75016 France;X-APPLE-RADIUS=500;X-TITLE=2 Rue Louis Boilly:geo:2.2673572,48.8592981
END:VEVENT
END:VCALENDAR