BEGIN:VCALENDAR
VERSION:2.0
PRODID:-//Actu.Art - ECPv6.15.13//NONSGML v1.0//EN
CALSCALE:GREGORIAN
METHOD:PUBLISH
X-WR-CALNAME:Actu.Art
X-ORIGINAL-URL:https://actu.art
X-WR-CALDESC:Évènements pour Actu.Art
BEGIN:VTIMEZONE
TZID:Europe/Paris
BEGIN:DAYLIGHT
TZOFFSETFROM:+0100
TZOFFSETTO:+0200
TZNAME:CEST
DTSTART:20230326T010000
END:DAYLIGHT
BEGIN:STANDARD
TZOFFSETFROM:+0200
TZOFFSETTO:+0100
TZNAME:CET
DTSTART:20231029T010000
END:STANDARD
BEGIN:DAYLIGHT
TZOFFSETFROM:+0100
TZOFFSETTO:+0200
TZNAME:CEST
DTSTART:20240331T010000
END:DAYLIGHT
BEGIN:STANDARD
TZOFFSETFROM:+0200
TZOFFSETTO:+0100
TZNAME:CET
DTSTART:20241027T010000
END:STANDARD
BEGIN:DAYLIGHT
TZOFFSETFROM:+0100
TZOFFSETTO:+0200
TZNAME:CEST
DTSTART:20250330T010000
END:DAYLIGHT
BEGIN:STANDARD
TZOFFSETFROM:+0200
TZOFFSETTO:+0100
TZNAME:CET
DTSTART:20251026T010000
END:STANDARD
END:VTIMEZONE
BEGIN:VEVENT
DTSTART;TZID=Europe/Paris:20240327T110000
DTEND;TZID=Europe/Paris:20240701T210000
DTSTAMP:20260424T033511
CREATED:20231214T231113Z
LAST-MODIFIED:20240424T212833Z
UID:75562-1711537200-1719867600@actu.art
SUMMARY:Brancusi
DESCRIPTION:Il est l’inventeur de la sculpture moderne. Cette rétrospective exceptionnelle vous emmène à la découverte de l’univers poétique du sculpteur d’origine roumaine\, Constantin Brancusi\, autour de plus de cent-vingt sculptures et quatre cents œuvres. Au cœur de l’exposition : la reconstitution à l’identique de son atelier\, matrice historique de toute sa création. \nSculptures\, photographies\, dessins et films… la rétrospective « Brancusi » offre l’opportunité de découvrir toutes les dimensions de la création de cet immense artiste considéré comme l’inventeur de la sculpture moderne. À la fois lieu de vie\, de création et de contemplation\, l’atelier de l’artiste\, joyau de la collection du Musée national d’art moderne depuis son legs en 1957\, forme la matrice de ce projet. Un ensemble exceptionnel de sculptures\, jouant sur le dialogue entre les plâtres de l’Atelier Brancusi et les originaux en pierre ou bronze\, prêtés par de nombreuses collections privées et muséales (Tate Modern\, MoMA\, Guggenheim\, Philadelphia Museum of Art\, The Art Institute of Chicago\, Dallas Museum of Art\, Musée national d’art de Roumanie\, Musée d’art de Craiova…) sont exceptionnellement réunis. La dernière exposition rétrospective Brancusi en France\, et la seule\, remonte à 1995 (sous le commissariat de Margit Rowell au Centre Pompidou). Une occasion unique de découvrir sous un jour nouveau cet immense artiste du 20e siècle.
URL:https://actu.art/event/brancusi/
LOCATION:Centre Pompidou\, Place Georges-Pompidou\, Paris\, Paris\, 75004\, France
CATEGORIES:Notre Sélection
ATTACH;FMTTYPE=image/jpeg:https://actu.art/wp-content/uploads/2023/12/Brancusi-2.jpg
GEO:48.860642;2.352245
X-APPLE-STRUCTURED-LOCATION;VALUE=URI;X-ADDRESS=Centre Pompidou Place Georges-Pompidou Paris Paris 75004 France;X-APPLE-RADIUS=500;X-TITLE=Place Georges-Pompidou:geo:2.352245,48.860642
END:VEVENT
END:VCALENDAR