BEGIN:VCALENDAR
VERSION:2.0
PRODID:-//Actu.Art - ECPv6.15.13//NONSGML v1.0//EN
CALSCALE:GREGORIAN
METHOD:PUBLISH
X-WR-CALNAME:Actu.Art
X-ORIGINAL-URL:https://actu.art
X-WR-CALDESC:Évènements pour Actu.Art
BEGIN:VTIMEZONE
TZID:Europe/Paris
BEGIN:DAYLIGHT
TZOFFSETFROM:+0100
TZOFFSETTO:+0200
TZNAME:CEST
DTSTART:20180325T010000
END:DAYLIGHT
BEGIN:STANDARD
TZOFFSETFROM:+0200
TZOFFSETTO:+0100
TZNAME:CET
DTSTART:20181028T010000
END:STANDARD
BEGIN:DAYLIGHT
TZOFFSETFROM:+0100
TZOFFSETTO:+0200
TZNAME:CEST
DTSTART:20190331T010000
END:DAYLIGHT
BEGIN:STANDARD
TZOFFSETFROM:+0200
TZOFFSETTO:+0100
TZNAME:CET
DTSTART:20191027T010000
END:STANDARD
BEGIN:DAYLIGHT
TZOFFSETFROM:+0100
TZOFFSETTO:+0200
TZNAME:CEST
DTSTART:20200329T010000
END:DAYLIGHT
BEGIN:STANDARD
TZOFFSETFROM:+0200
TZOFFSETTO:+0100
TZNAME:CET
DTSTART:20201025T010000
END:STANDARD
END:VTIMEZONE
BEGIN:VEVENT
DTSTART;TZID=Europe/Paris:20190618T093000
DTEND;TZID=Europe/Paris:20190922T180000
DTSTAMP:20260424T075457
CREATED:20190224T172209Z
LAST-MODIFIED:20190224T172224Z
UID:6880-1560850200-1569175200@actu.art
SUMMARY:Berthe Morisot (1841-1895)
DESCRIPTION:Figure majeure de l’impressionnisme\, Berthe Morisot\, reste aujourd’hui moins connue que ses amis Monet\, Degas ou Renoir. Elle avait pourtant été immédiatement reconnue comme l’une des artistes les plus novatrices du groupe. \nL’exposition retrace le parcours exceptionnel d’une peintre\, qui\, à rebours des usages de son temps et de son milieu\, devient une figure essentielle des avant-gardes parisiennes de la fin des années 1860 jusqu’à sa mort prématurée en 1895. \nPeindre d’après modèle permet à Berthe Morisot d’explorer plusieurs thématiques de la vie moderne\, telles que l’intimité de la vie bourgeoise\, le goût de la villégiature et des jardins\, l’importance de la mode\, le travail domestique féminin\, tout en brouillant les frontières entre intérieur/extérieur\, privé/public\, fini/non fini. Pour elle\, la peinture doit s’efforcer de « fixer quelque chose de ce qui passe ». \nSujets modernes et rapidité d’exécution ont donc à voir avec la temporalité de la représentation\, et l’artiste se confronte inlassablement à l’éphémère et au passage du temps. Ainsi ses dernières oeuvres\, caractérisées par une expressivité et une musicalité nouvelles\, invitent à une médiation souvent mélancolique sur ces relations entre l’art et la vie.
URL:https://actu.art/event/berthe-morisot-1841-1895/
LOCATION:Musée d’Orsay\, Esplanade Valéry Giscard d'Estaing\, Paris\, Paris\, 75007\, France
CATEGORIES:Notre Sélection
ATTACH;FMTTYPE=image/gif:https://actu.art/wp-content/uploads/2019/02/Berte-Morisot-Le-berceau.gif
GEO:48.8601715;2.326074
X-APPLE-STRUCTURED-LOCATION;VALUE=URI;X-ADDRESS=Musée d’Orsay Esplanade Valéry Giscard d'Estaing Paris Paris 75007 France;X-APPLE-RADIUS=500;X-TITLE=Esplanade Valéry Giscard d'Estaing:geo:2.326074,48.8601715
END:VEVENT
END:VCALENDAR