BEGIN:VCALENDAR
VERSION:2.0
PRODID:-//Actu.Art - ECPv6.15.13//NONSGML v1.0//EN
CALSCALE:GREGORIAN
METHOD:PUBLISH
X-WR-CALNAME:Actu.Art
X-ORIGINAL-URL:https://actu.art
X-WR-CALDESC:Évènements pour Actu.Art
BEGIN:VTIMEZONE
TZID:Europe/Paris
BEGIN:DAYLIGHT
TZOFFSETFROM:+0100
TZOFFSETTO:+0200
TZNAME:CEST
DTSTART:20240331T010000
END:DAYLIGHT
BEGIN:STANDARD
TZOFFSETFROM:+0200
TZOFFSETTO:+0100
TZNAME:CET
DTSTART:20241027T010000
END:STANDARD
BEGIN:DAYLIGHT
TZOFFSETFROM:+0100
TZOFFSETTO:+0200
TZNAME:CEST
DTSTART:20250330T010000
END:DAYLIGHT
BEGIN:STANDARD
TZOFFSETFROM:+0200
TZOFFSETTO:+0100
TZNAME:CET
DTSTART:20251026T010000
END:STANDARD
BEGIN:DAYLIGHT
TZOFFSETFROM:+0100
TZOFFSETTO:+0200
TZNAME:CEST
DTSTART:20260329T010000
END:DAYLIGHT
BEGIN:STANDARD
TZOFFSETFROM:+0200
TZOFFSETTO:+0100
TZNAME:CET
DTSTART:20261025T010000
END:STANDARD
END:VTIMEZONE
BEGIN:VEVENT
DTSTART;TZID=Europe/Paris:20250403T100000
DTEND;TZID=Europe/Paris:20250418T180000
DTSTAMP:20260422T224945
CREATED:20250205T004920Z
LAST-MODIFIED:20250205T004920Z
UID:108927-1743674400-1744999200@actu.art
SUMMARY:BD à Bastia 2025 / Le Prix des lycéens 2025 / Exposition Collective : Victor Hussenot\, Aurélie Wilmet et Simon Roure - Galerie Noir & blanc - Bastia
DESCRIPTION:S’interroger sur le monde et sur soi au travers de la bande dessinée\, c’est ce que propose BD à Bastia avec le Prix des Lycéens : trois ouvrages sont sélectionnés et en amont du festival\, les auteur.ice.s et auteurs rencontrent les élèves afin d’expliquer leur travail\, leur pratique de la BD et les récits qu’ils ont choisis de raconter. La remise du Prix est organisée durant BD à Bastia et une exposition leur est consacrée à la Galerie Noir et Blanc\, jusqu’au 18 avril. \nLa sélection 2025\nLa Brigade\, Victor Hussenot\, La Joie de Lire\, 2024\nÉpinette Noire\, Aurélie Wilmet\, Super Loto Éditions\, 2023\nMonstera\, Simon Roure\, Virages Graphiques\, 2024
URL:https://actu.art/event/bd-a-bastia-2025-le-prix-des-lyceens-2025-exposition-collective-victor-hussenot-aurelie-wilmet-et-simon-roure-galerie-noir-blanc-bastia/
LOCATION:Galerie Noir & Blanc\, Place du Marché - 2 Rue Cardinal\, Bastia\, Haute-Corse\, 20200
CATEGORIES:Expositions
ATTACH;FMTTYPE=image/jpeg:https://actu.art/wp-content/uploads/2025/02/BD_a_Bastia_2025_Le_Prix_des_lyceens_2025_Exposition_Collective_Victor_Hussenot_Aurelie_Wilmet_et_Simon_Roure_Galerie_Noir_blanc_Bastia.jpg
GEO:42.6972469;9.4509499
X-APPLE-STRUCTURED-LOCATION;VALUE=URI;X-ADDRESS=Galerie Noir & Blanc Place du Marché - 2 Rue Cardinal Bastia Haute-Corse 20200;X-APPLE-RADIUS=500;X-TITLE=Place du Marché - 2 Rue Cardinal:geo:9.4509499,42.6972469
END:VEVENT
END:VCALENDAR