BEGIN:VCALENDAR
VERSION:2.0
PRODID:-//Actu.Art - ECPv6.15.13//NONSGML v1.0//EN
CALSCALE:GREGORIAN
METHOD:PUBLISH
X-WR-CALNAME:Actu.Art
X-ORIGINAL-URL:https://actu.art
X-WR-CALDESC:Évènements pour Actu.Art
BEGIN:VTIMEZONE
TZID:Europe/Paris
BEGIN:DAYLIGHT
TZOFFSETFROM:+0100
TZOFFSETTO:+0200
TZNAME:CEST
DTSTART:20240331T010000
END:DAYLIGHT
BEGIN:STANDARD
TZOFFSETFROM:+0200
TZOFFSETTO:+0100
TZNAME:CET
DTSTART:20241027T010000
END:STANDARD
BEGIN:DAYLIGHT
TZOFFSETFROM:+0100
TZOFFSETTO:+0200
TZNAME:CEST
DTSTART:20250330T010000
END:DAYLIGHT
BEGIN:STANDARD
TZOFFSETFROM:+0200
TZOFFSETTO:+0100
TZNAME:CET
DTSTART:20251026T010000
END:STANDARD
BEGIN:DAYLIGHT
TZOFFSETFROM:+0100
TZOFFSETTO:+0200
TZNAME:CEST
DTSTART:20260329T010000
END:DAYLIGHT
BEGIN:STANDARD
TZOFFSETFROM:+0200
TZOFFSETTO:+0100
TZNAME:CET
DTSTART:20261025T010000
END:STANDARD
END:VTIMEZONE
BEGIN:VEVENT
DTSTART;TZID=Europe/Paris:20250403T090000
DTEND;TZID=Europe/Paris:20250503T180000
DTSTAMP:20260423T015050
CREATED:20250127T020716Z
LAST-MODIFIED:20250127T020716Z
UID:108511-1743670800-1746295200@actu.art
SUMMARY:BD à Bastia 2025 / Exposition Brecht Evens "Le repaire de la méduse" - Musée de Bastia
DESCRIPTION:BD à Bastia 2025 / Exposition Brecht Evens « Le repaire de la méduse »\nDu 3 avril au 3 mai\nMusée de Bastia \nHoraires du Musée de Bastia\nJeudi 3 & vend 4 avril\n9h-12h—13h30-17h\nSamedi 5 avril\n10h-18h\nDimanche 6 avril\n10h-12h—14h-18h \nEntrée gratuite \nUne grande exposition rassemblera les lithographies réalisées par Brecht Evens dans le cadre de la création du Roi Méduse\, dont le premier tome est paru en janvier 2024. L’auteur développe cette technique de manière tout aussi virtuose que pour son travail à l’aquarelle ou à la gouache. Des planches originales à l’encre et à la peinture viendront par ailleurs compléter l’accrochage. \nL’exposition\, en partenariat avec la Galerie Martel à Paris et le lithographe Michael Woolwoth\, se tiendra dans les salles d’expositions temporaires du Musée de Bastia jusqu’au 3 mai 2025 \nBrecht Evens est né en 1986 à Hasselt en Belgique néerlandophone. À vingt-deux ans\, il sort de l’école Saint-Luc de Gand (Belgique) avec\, sous le bras\, Les Noceurs\, son projet de fin d’études. Son style inimitable\, qui se caractérise par une maîtrise remarquable de la couleur et des transparences\, l’éclatement des perspectives et le goût du détail\, suscite immédiatement l’enthousiasme. Publié en 2010\, Les Noceurs obtient le prix de l’Audace au Festival international de la Bande Dessinée d’Angoulême. Avec la parution des Amateurs (2011) et de Panthère (2014)\, la notoriété de Brecht Evens n’a cessé de croître\, en France\, où il vit désormais\, comme à l’étranger\, et dépasse aujourd’hui largement les frontières du monde de la bande dessinée. En 2018\, il publie Les Rigoles chez Actes Sud BD\, impressionnant roman graphique de plus de 300 pages\, qui raconte les errances de trois noctambules dans une ville chimérique et sublime. Pour cette bande dessinée\, Brecht Evens reçoit le Fauve – Prix Spécial du Jury au Festival international de la Bande Dessinée d’Angoulême 2019. Entre deux livres\, Brecht Evens travaille pour la presse\, la mode\, et est représenté par la Galerie Martel à Paris et par le lithographe Michael Woolwoth. En 2024\, le dessinateur signe le premier tome du Roi Méduse\, qui en comptera trois.
URL:https://actu.art/event/bd-a-bastia-2025-exposition-brecht-evens-le-repaire-de-la-meduse-musee-de-bastia/
LOCATION:Musée de Bastia\, Palais des Gouverneurs Gênois - La Citadelle\, Bastia\, Corse\, 20200\, France
CATEGORIES:Expositions
ATTACH;FMTTYPE=image/jpeg:https://actu.art/wp-content/uploads/2025/01/BD_a_Bastia_2025_Exposition_Brecht_Evens_Le_repaire_de_la_meduse_Musee_de_Bastia.jpg
GEO:42.6935129;9.4510075
X-APPLE-STRUCTURED-LOCATION;VALUE=URI;X-ADDRESS=Musée de Bastia Palais des Gouverneurs Gênois - La Citadelle Bastia Corse 20200 France;X-APPLE-RADIUS=500;X-TITLE=Palais des Gouverneurs Gênois - La Citadelle:geo:9.4510075,42.6935129
END:VEVENT
END:VCALENDAR