BEGIN:VCALENDAR
VERSION:2.0
PRODID:-//Actu.Art - ECPv6.15.13//NONSGML v1.0//EN
CALSCALE:GREGORIAN
METHOD:PUBLISH
X-WR-CALNAME:Actu.Art
X-ORIGINAL-URL:https://actu.art
X-WR-CALDESC:Évènements pour Actu.Art
BEGIN:VTIMEZONE
TZID:Europe/Paris
BEGIN:DAYLIGHT
TZOFFSETFROM:+0100
TZOFFSETTO:+0200
TZNAME:CEST
DTSTART:20240331T010000
END:DAYLIGHT
BEGIN:STANDARD
TZOFFSETFROM:+0200
TZOFFSETTO:+0100
TZNAME:CET
DTSTART:20241027T010000
END:STANDARD
BEGIN:DAYLIGHT
TZOFFSETFROM:+0100
TZOFFSETTO:+0200
TZNAME:CEST
DTSTART:20250330T010000
END:DAYLIGHT
BEGIN:STANDARD
TZOFFSETFROM:+0200
TZOFFSETTO:+0100
TZNAME:CET
DTSTART:20251026T010000
END:STANDARD
BEGIN:DAYLIGHT
TZOFFSETFROM:+0100
TZOFFSETTO:+0200
TZNAME:CEST
DTSTART:20260329T010000
END:DAYLIGHT
BEGIN:STANDARD
TZOFFSETFROM:+0200
TZOFFSETTO:+0100
TZNAME:CET
DTSTART:20261025T010000
END:STANDARD
END:VTIMEZONE
BEGIN:VEVENT
DTSTART;TZID=Europe/Paris:20250403T090000
DTEND;TZID=Europe/Paris:20250503T180000
DTSTAMP:20260422T225000
CREATED:20250205T004803Z
LAST-MODIFIED:20250205T004803Z
UID:108924-1743670800-1746295200@actu.art
SUMMARY:BD à Bastia 2025 / Exposition Bastien Contraire - Mediateca Centru Cità - Bastia
DESCRIPTION:Autodidacte\, Bastien Contraire développe d’abord sa pratique dans le monde de l’auto-édition avant de se consacrer aux livres pour enfants. C’est ainsi\, en faisant les couvertures du fanzine qu’il co-édite\, qu’il expérimente la technique du pochoir dont il apprécie les contraintes et le jeu avec la superposition des couches de couleur. Il s’est fait connaître en 2016 avec son premier livre\, Les Intrus\, des planches naturalistes qui cachent une anomalie. Ses derniers ouvrages qui mêlent albums documentaires et recherches graphiques\, Dinosaures\, Animaux puis Baleines sont parus chez La Partie. Parallèlement à son activité d’auteur-illustrateur\, il crée des expositions pour enfants dans une démarche expérimentale et ludique. L’exposition de son travail sera présentée à la Mediateca Centru Cità\, 2e étage\, jusqu’au 10 avril.
URL:https://actu.art/event/bd-a-bastia-2025-exposition-bastien-contraire-mediateca-centru-cita-bastia/
LOCATION:Mediateca Centru Cità\, Rue Favalelli\, Bastia\, Haute-Corse\, 20200
CATEGORIES:Expositions
ATTACH;FMTTYPE=image/jpeg:https://actu.art/wp-content/uploads/2025/02/BD_a_Bastia_2025_Exposition_Bastien_Contraire_Mediateca_Centru_Cita_Bastia.jpg
GEO:42.6973728;9.4475366
X-APPLE-STRUCTURED-LOCATION;VALUE=URI;X-ADDRESS=Mediateca Centru Cità Rue Favalelli Bastia Haute-Corse 20200;X-APPLE-RADIUS=500;X-TITLE=Rue Favalelli:geo:9.4475366,42.6973728
END:VEVENT
END:VCALENDAR