BEGIN:VCALENDAR
VERSION:2.0
PRODID:-//Actu.Art - ECPv6.15.13//NONSGML v1.0//EN
CALSCALE:GREGORIAN
METHOD:PUBLISH
X-WR-CALNAME:Actu.Art
X-ORIGINAL-URL:https://actu.art
X-WR-CALDESC:Évènements pour Actu.Art
BEGIN:VTIMEZONE
TZID:Europe/Paris
BEGIN:DAYLIGHT
TZOFFSETFROM:+0100
TZOFFSETTO:+0200
TZNAME:CEST
DTSTART:20240331T010000
END:DAYLIGHT
BEGIN:STANDARD
TZOFFSETFROM:+0200
TZOFFSETTO:+0100
TZNAME:CET
DTSTART:20241027T010000
END:STANDARD
BEGIN:DAYLIGHT
TZOFFSETFROM:+0100
TZOFFSETTO:+0200
TZNAME:CEST
DTSTART:20250330T010000
END:DAYLIGHT
BEGIN:STANDARD
TZOFFSETFROM:+0200
TZOFFSETTO:+0100
TZNAME:CET
DTSTART:20251026T010000
END:STANDARD
BEGIN:DAYLIGHT
TZOFFSETFROM:+0100
TZOFFSETTO:+0200
TZNAME:CEST
DTSTART:20260329T010000
END:DAYLIGHT
BEGIN:STANDARD
TZOFFSETFROM:+0200
TZOFFSETTO:+0100
TZNAME:CET
DTSTART:20261025T010000
END:STANDARD
END:VTIMEZONE
BEGIN:VEVENT
DTSTART;TZID=Europe/Paris:20250510T090000
DTEND;TZID=Europe/Paris:20250511T180000
DTSTAMP:20260420T183550
CREATED:20250430T192129Z
LAST-MODIFIED:20250430T192129Z
UID:116412-1746867600-1746986400@actu.art
SUMMARY:Balade en terre d'Artistes à Saint-Paul-de-Fenouillet
DESCRIPTION:Les Anciens Thermes de la Clue de la Fou vous ouvrent ses portes à l’occasion de « Balade en terre d’Artistes » le 10 et 11 mai de 9h à 18h.\nPlusieurs associations : ARG – WIPLI – EXPO CREATEURS – EUROPE DES ARTS
URL:https://actu.art/event/balade-en-terre-dartistes-a-saint-paul-de-fenouillet/
LOCATION:Anciens Thermes de la Clue de la Fou\, D619\, Saint-Paul-de-Fenouillet\, Pyrénées-Orientales\, 66220
CATEGORIES:Divers
END:VEVENT
END:VCALENDAR