BEGIN:VCALENDAR
VERSION:2.0
PRODID:-//Actu.Art - ECPv6.15.13//NONSGML v1.0//EN
CALSCALE:GREGORIAN
METHOD:PUBLISH
X-WR-CALNAME:Actu.Art
X-ORIGINAL-URL:https://actu.art
X-WR-CALDESC:Évènements pour Actu.Art
BEGIN:VTIMEZONE
TZID:Europe/Paris
BEGIN:DAYLIGHT
TZOFFSETFROM:+0100
TZOFFSETTO:+0200
TZNAME:CEST
DTSTART:20240331T010000
END:DAYLIGHT
BEGIN:STANDARD
TZOFFSETFROM:+0200
TZOFFSETTO:+0100
TZNAME:CET
DTSTART:20241027T010000
END:STANDARD
BEGIN:DAYLIGHT
TZOFFSETFROM:+0100
TZOFFSETTO:+0200
TZNAME:CEST
DTSTART:20250330T010000
END:DAYLIGHT
BEGIN:STANDARD
TZOFFSETFROM:+0200
TZOFFSETTO:+0100
TZNAME:CET
DTSTART:20251026T010000
END:STANDARD
BEGIN:DAYLIGHT
TZOFFSETFROM:+0100
TZOFFSETTO:+0200
TZNAME:CEST
DTSTART:20260329T010000
END:DAYLIGHT
BEGIN:STANDARD
TZOFFSETFROM:+0200
TZOFFSETTO:+0100
TZNAME:CET
DTSTART:20261025T010000
END:STANDARD
END:VTIMEZONE
BEGIN:VEVENT
DTSTART;TZID=Europe/Paris:20251004T150000
DTEND;TZID=Europe/Paris:20251017T180000
DTSTAMP:20260425T000817
CREATED:20250908T124506Z
LAST-MODIFIED:20250908T124506Z
UID:127410-1759590000-1760724000@actu.art
SUMMARY:Balade d'Automne 2025
DESCRIPTION:La Balade d’Automne ouvre ses portes du 4 au 17 octobre 2025 dans la Salle Félix Lionnet de La Châtaigneraie (85120).\nles artistes accueillis sont :\n– André ROUVREAU\, peintre\n– Denis FERY\, sculpteur\n– Danielle BAUDRY\, peintre\nOuverture au public : samedi 15h-18h et dimanche 10h-12h et 15h-18h.\nGRATUIT
URL:https://actu.art/event/balade-dautomne-2025/
LOCATION:Salle Félix Lionnet\, Rue de la République 38\, La Chataigneraie\, Vendée\, 85120\, France
CATEGORIES:Expositions
ATTACH;FMTTYPE=image/jpeg:https://actu.art/wp-content/uploads/2025/08/2025_ba-scaled.jpg
ORGANIZER;CN="Mairie La Ch%C3%A2taigneraie":MAILTO:mairie@la-chataigneraie.fr
GEO:46.6491797;-0.7397072
X-APPLE-STRUCTURED-LOCATION;VALUE=URI;X-ADDRESS=Salle Félix Lionnet Rue de la République 38 La Chataigneraie Vendée 85120 France;X-APPLE-RADIUS=500;X-TITLE=Rue de la République 38:geo:-0.7397072,46.6491797
END:VEVENT
END:VCALENDAR