BEGIN:VCALENDAR
VERSION:2.0
PRODID:-//Actu.Art - ECPv6.15.13//NONSGML v1.0//EN
CALSCALE:GREGORIAN
METHOD:PUBLISH
X-WR-CALNAME:Actu.Art
X-ORIGINAL-URL:https://actu.art
X-WR-CALDESC:Évènements pour Actu.Art
BEGIN:VTIMEZONE
TZID:Europe/Paris
BEGIN:DAYLIGHT
TZOFFSETFROM:+0100
TZOFFSETTO:+0200
TZNAME:CEST
DTSTART:20180325T010000
END:DAYLIGHT
BEGIN:STANDARD
TZOFFSETFROM:+0200
TZOFFSETTO:+0100
TZNAME:CET
DTSTART:20181028T010000
END:STANDARD
BEGIN:DAYLIGHT
TZOFFSETFROM:+0100
TZOFFSETTO:+0200
TZNAME:CEST
DTSTART:20190331T010000
END:DAYLIGHT
BEGIN:STANDARD
TZOFFSETFROM:+0200
TZOFFSETTO:+0100
TZNAME:CET
DTSTART:20191027T010000
END:STANDARD
BEGIN:DAYLIGHT
TZOFFSETFROM:+0100
TZOFFSETTO:+0200
TZNAME:CEST
DTSTART:20200329T010000
END:DAYLIGHT
BEGIN:STANDARD
TZOFFSETFROM:+0200
TZOFFSETTO:+0100
TZNAME:CET
DTSTART:20201025T010000
END:STANDARD
BEGIN:DAYLIGHT
TZOFFSETFROM:+0100
TZOFFSETTO:+0200
TZNAME:CEST
DTSTART:20210328T010000
END:DAYLIGHT
BEGIN:STANDARD
TZOFFSETFROM:+0200
TZOFFSETTO:+0100
TZNAME:CET
DTSTART:20211031T010000
END:STANDARD
END:VTIMEZONE
BEGIN:VEVENT
DTSTART;TZID=Europe/Paris:20190911T110000
DTEND;TZID=Europe/Paris:20200120T210000
DTSTAMP:20260424T204134
CREATED:20190826T202108Z
LAST-MODIFIED:20190929T100307Z
UID:16180-1568199600-1579554000@actu.art
SUMMARY:Bacon en toutes lettres
DESCRIPTION:L’exposition est consacrée aux œuvres tardives du célèbre peintre britannique\, réalisées entre 1971 et 1992\, année de sa disparition.\nDans la seconde partie de sa carrière\, Bacon fait entrer les livres dans ses œuvres. George Bataille\, Michel Leiris\, Nietzsche… viennent nourrir sa vision du monde polarisée entre civilisation et barbarie\, beauté et laideur\, vie et mort\, ainsi que son travail permanent de déconstruction du monde « poétique »\, qui rejette toute forme d’idéalisme.
URL:https://actu.art/event/bacon-en-toutes-lettres/
LOCATION:Centre Pompidou\, Place Georges-Pompidou\, Paris\, Paris\, 75004\, France
CATEGORIES:Notre Sélection
ATTACH;FMTTYPE=image/jpeg:https://actu.art/wp-content/uploads/2019/08/Bacon-en-toutes-lettres.jpg
GEO:48.860642;2.352245
X-APPLE-STRUCTURED-LOCATION;VALUE=URI;X-ADDRESS=Centre Pompidou Place Georges-Pompidou Paris Paris 75004 France;X-APPLE-RADIUS=500;X-TITLE=Place Georges-Pompidou:geo:2.352245,48.860642
END:VEVENT
END:VCALENDAR