BEGIN:VCALENDAR
VERSION:2.0
PRODID:-//Actu.Art - ECPv6.15.13//NONSGML v1.0//EN
CALSCALE:GREGORIAN
METHOD:PUBLISH
X-WR-CALNAME:Actu.Art
X-ORIGINAL-URL:https://actu.art
X-WR-CALDESC:Évènements pour Actu.Art
BEGIN:VTIMEZONE
TZID:Europe/Paris
BEGIN:DAYLIGHT
TZOFFSETFROM:+0100
TZOFFSETTO:+0200
TZNAME:CEST
DTSTART:20230326T010000
END:DAYLIGHT
BEGIN:STANDARD
TZOFFSETFROM:+0200
TZOFFSETTO:+0100
TZNAME:CET
DTSTART:20231029T010000
END:STANDARD
BEGIN:DAYLIGHT
TZOFFSETFROM:+0100
TZOFFSETTO:+0200
TZNAME:CEST
DTSTART:20240331T010000
END:DAYLIGHT
BEGIN:STANDARD
TZOFFSETFROM:+0200
TZOFFSETTO:+0100
TZNAME:CET
DTSTART:20241027T010000
END:STANDARD
BEGIN:DAYLIGHT
TZOFFSETFROM:+0100
TZOFFSETTO:+0200
TZNAME:CEST
DTSTART:20250330T010000
END:DAYLIGHT
BEGIN:STANDARD
TZOFFSETFROM:+0200
TZOFFSETTO:+0100
TZNAME:CET
DTSTART:20251026T010000
END:STANDARD
END:VTIMEZONE
BEGIN:VEVENT
DTSTART;VALUE=DATE:20240518
DTEND;VALUE=DATE:20241209
DTSTAMP:20260425T212919
CREATED:20240522T201341Z
LAST-MODIFIED:20241106T205241Z
UID:86390-1715990400-1733702340@actu.art
SUMMARY:Ateliers images
DESCRIPTION:Du 18 mai au 4 août et du 21 septembre au 8 décembre : PALIS – Ateliers images au Domaine du Tournefou. Visite de l’exposition sur demande pour enfants et ados à partir de 6 ans des écoles\, collèges\, lycées et centres de loisirs. Découvertes du collage\, de la photographie\, du dessin… (éligible au Pass culture). Autour de « Peintures »\, allons à la recherche de plages de couleurs et de textures\, semblable à un jeu de piste entre paysages intérieurs et extérieurs. Place à vos pastels gras\, aquarelles… Avec « Gouaches et fusains »\, ouvrons grands nos yeux et nos oreilles parmi cette nature mouvante et lumineuse\, que raconte ces gerbes et ces feuillages ? À vos pinceaux\, fusains… L’atelier commence par une visite guidée de l’exposition. Choisir une œuvre\, prendre le temps de la regarder\, formuler ses impressions… Dans un deuxième temps\, un atelier de pratique artistique est proposé : les participants réalisent une œuvre en fonction du thème de l’exposition et de l’artiste intervenant. Contact : +33(0)3 25 40 58 37 – secretariat.tournefou@gmail.com
URL:https://actu.art/event/ateliers-images/
LOCATION:Domaine du Tournefou\, Rue Tournefou 4\, Aix-Villemaur-Palis\, Aube\, 10190\, France
CATEGORIES:Stages
ATTACH;FMTTYPE=image/jpeg:https://actu.art/wp-content/uploads/2024/05/Ateliers_images.jpg
GEO:48.2843445;3.7085466
X-APPLE-STRUCTURED-LOCATION;VALUE=URI;X-ADDRESS=Domaine du Tournefou Rue Tournefou 4 Aix-Villemaur-Palis Aube 10190 France;X-APPLE-RADIUS=500;X-TITLE=Rue Tournefou 4:geo:3.7085466,48.2843445
END:VEVENT
END:VCALENDAR