BEGIN:VCALENDAR
VERSION:2.0
PRODID:-//Actu.Art - ECPv6.15.13//NONSGML v1.0//EN
CALSCALE:GREGORIAN
METHOD:PUBLISH
X-WR-CALNAME:Actu.Art
X-ORIGINAL-URL:https://actu.art
X-WR-CALDESC:Évènements pour Actu.Art
BEGIN:VTIMEZONE
TZID:Europe/Paris
BEGIN:DAYLIGHT
TZOFFSETFROM:+0100
TZOFFSETTO:+0200
TZNAME:CEST
DTSTART:20240331T010000
END:DAYLIGHT
BEGIN:STANDARD
TZOFFSETFROM:+0200
TZOFFSETTO:+0100
TZNAME:CET
DTSTART:20241027T010000
END:STANDARD
BEGIN:DAYLIGHT
TZOFFSETFROM:+0100
TZOFFSETTO:+0200
TZNAME:CEST
DTSTART:20250330T010000
END:DAYLIGHT
BEGIN:STANDARD
TZOFFSETFROM:+0200
TZOFFSETTO:+0100
TZNAME:CET
DTSTART:20251026T010000
END:STANDARD
BEGIN:DAYLIGHT
TZOFFSETFROM:+0100
TZOFFSETTO:+0200
TZNAME:CEST
DTSTART:20260329T010000
END:DAYLIGHT
BEGIN:STANDARD
TZOFFSETFROM:+0200
TZOFFSETTO:+0100
TZNAME:CET
DTSTART:20261025T010000
END:STANDARD
END:VTIMEZONE
BEGIN:VEVENT
DTSTART;TZID=Europe/Paris:20250806T110000
DTEND;TZID=Europe/Paris:20250806T170000
DTSTAMP:20260421T084923
CREATED:20250709T175407Z
LAST-MODIFIED:20250709T175407Z
UID:123615-1754478000-1754499600@actu.art
SUMMARY:Atelier "Wanted" - peinture sur bois
DESCRIPTION:Mad’Elfik propose un atelier créatif de peinture sur bois dans son atelier-boutique. Repartez avec votre création unique. Un expérience ludique et créative à vivre en solo\, en duo parent/enfant ou entre amis. Tout le matériel est fourni.
URL:https://actu.art/event/atelier-wanted-peinture-sur-bois/
LOCATION:Galerie des curiosités Larraincy\, 1 Rue de l'Église\, Puchay\, Eure\, 27150
CATEGORIES:Stages
ATTACH;FMTTYPE=image/jpeg:https://actu.art/wp-content/uploads/2025/07/Atelier_Wanted_peinture_sur_bois.jpg
END:VEVENT
END:VCALENDAR