BEGIN:VCALENDAR
VERSION:2.0
PRODID:-//Actu.Art - ECPv6.15.13//NONSGML v1.0//EN
CALSCALE:GREGORIAN
METHOD:PUBLISH
X-WR-CALNAME:Actu.Art
X-ORIGINAL-URL:https://actu.art
X-WR-CALDESC:Évènements pour Actu.Art
BEGIN:VTIMEZONE
TZID:Europe/Paris
BEGIN:DAYLIGHT
TZOFFSETFROM:+0100
TZOFFSETTO:+0200
TZNAME:CEST
DTSTART:20230326T010000
END:DAYLIGHT
BEGIN:STANDARD
TZOFFSETFROM:+0200
TZOFFSETTO:+0100
TZNAME:CET
DTSTART:20231029T010000
END:STANDARD
BEGIN:DAYLIGHT
TZOFFSETFROM:+0100
TZOFFSETTO:+0200
TZNAME:CEST
DTSTART:20240331T010000
END:DAYLIGHT
BEGIN:STANDARD
TZOFFSETFROM:+0200
TZOFFSETTO:+0100
TZNAME:CET
DTSTART:20241027T010000
END:STANDARD
BEGIN:DAYLIGHT
TZOFFSETFROM:+0100
TZOFFSETTO:+0200
TZNAME:CEST
DTSTART:20250330T010000
END:DAYLIGHT
BEGIN:STANDARD
TZOFFSETFROM:+0200
TZOFFSETTO:+0100
TZNAME:CET
DTSTART:20251026T010000
END:STANDARD
END:VTIMEZONE
BEGIN:VEVENT
DTSTART;TZID=Europe/Paris:20241031T103000
DTEND;TZID=Europe/Paris:20241031T123000
DTSTAMP:20260422T190546
CREATED:20241017T201107Z
LAST-MODIFIED:20241017T201107Z
UID:100852-1730370600-1730377800@actu.art
SUMMARY:[Atelier] Pochoir
DESCRIPTION:Le Musée Michel Ciry vous propose un atelier en lien avec l’exposition de l’artiste Akira Inumaru. Pendant cet atelier vous allez créer votre peinture avec des pochoirs et les techniques de l’artiste. \n→ Dès 6 ans\n→ Réservations obligatoire
URL:https://actu.art/event/atelier-pochoir/
LOCATION:Musée Michel Ciry\, 6B Rue Marguerite Rolle\, Varengeville-sur-Mer\, Seine-Maritime\, 76119\, France
CATEGORIES:Stages
GEO:49.9078068;0.9920858
X-APPLE-STRUCTURED-LOCATION;VALUE=URI;X-ADDRESS=Musée Michel Ciry 6B Rue Marguerite Rolle Varengeville-sur-Mer Seine-Maritime 76119 France;X-APPLE-RADIUS=500;X-TITLE=6B Rue Marguerite Rolle:geo:0.9920858,49.9078068
END:VEVENT
END:VCALENDAR