BEGIN:VCALENDAR
VERSION:2.0
PRODID:-//Actu.Art - ECPv6.15.13//NONSGML v1.0//EN
CALSCALE:GREGORIAN
METHOD:PUBLISH
X-WR-CALNAME:Actu.Art
X-ORIGINAL-URL:https://actu.art
X-WR-CALDESC:Évènements pour Actu.Art
BEGIN:VTIMEZONE
TZID:Europe/Paris
BEGIN:DAYLIGHT
TZOFFSETFROM:+0100
TZOFFSETTO:+0200
TZNAME:CEST
DTSTART:20230326T010000
END:DAYLIGHT
BEGIN:STANDARD
TZOFFSETFROM:+0200
TZOFFSETTO:+0100
TZNAME:CET
DTSTART:20231029T010000
END:STANDARD
BEGIN:DAYLIGHT
TZOFFSETFROM:+0100
TZOFFSETTO:+0200
TZNAME:CEST
DTSTART:20240331T010000
END:DAYLIGHT
BEGIN:STANDARD
TZOFFSETFROM:+0200
TZOFFSETTO:+0100
TZNAME:CET
DTSTART:20241027T010000
END:STANDARD
BEGIN:DAYLIGHT
TZOFFSETFROM:+0100
TZOFFSETTO:+0200
TZNAME:CEST
DTSTART:20250330T010000
END:DAYLIGHT
BEGIN:STANDARD
TZOFFSETFROM:+0200
TZOFFSETTO:+0100
TZNAME:CET
DTSTART:20251026T010000
END:STANDARD
END:VTIMEZONE
BEGIN:VEVENT
DTSTART;TZID=Europe/Paris:20241030T153000
DTEND;TZID=Europe/Paris:20241030T170000
DTSTAMP:20260423T072559
CREATED:20241017T202147Z
LAST-MODIFIED:20241017T202147Z
UID:100878-1730302200-1730307600@actu.art
SUMMARY:Atelier enfants "La flore"
DESCRIPTION:Dessins et peintures à partir de l’oeuvre de l’artiste Caroline Basuyau \nRÉSERVATION OBLIGATOIRE \nAteliers de pratique et de création artistique autour de collections ou d’expositions temporaires.\nCes ateliers offrent aux enfants et ados la possibilité de s’initier à diverses techniques telles que le dessin\, la peinture tout en découvrant le musée.\nLes P’tits Artistes se transforment en Aventuriers de l’art ! \nLe musée a mis également en place des ateliers pour les familles durant lesquels parents et grands-parents sont invités à créer une œuvre collective avec leur enfant.\nUne manière originale de découvrir le musée en famille !
URL:https://actu.art/event/atelier-enfants-la-flore/
LOCATION:Le Carmel\, 14 rue Théophile Gautier\, Tarbes\, Hautes-Pyrénées\, 65000\, France
CATEGORIES:Stages
GEO:43.2355094;0.0760555
X-APPLE-STRUCTURED-LOCATION;VALUE=URI;X-ADDRESS=Le Carmel 14 rue Théophile Gautier Tarbes Hautes-Pyrénées 65000 France;X-APPLE-RADIUS=500;X-TITLE=14 rue Théophile Gautier:geo:0.0760555,43.2355094
END:VEVENT
END:VCALENDAR