BEGIN:VCALENDAR
VERSION:2.0
PRODID:-//Actu.Art - ECPv6.15.13//NONSGML v1.0//EN
CALSCALE:GREGORIAN
METHOD:PUBLISH
X-WR-CALNAME:Actu.Art
X-ORIGINAL-URL:https://actu.art
X-WR-CALDESC:Évènements pour Actu.Art
BEGIN:VTIMEZONE
TZID:Europe/Paris
BEGIN:DAYLIGHT
TZOFFSETFROM:+0100
TZOFFSETTO:+0200
TZNAME:CEST
DTSTART:20240331T010000
END:DAYLIGHT
BEGIN:STANDARD
TZOFFSETFROM:+0200
TZOFFSETTO:+0100
TZNAME:CET
DTSTART:20241027T010000
END:STANDARD
BEGIN:DAYLIGHT
TZOFFSETFROM:+0100
TZOFFSETTO:+0200
TZNAME:CEST
DTSTART:20250330T010000
END:DAYLIGHT
BEGIN:STANDARD
TZOFFSETFROM:+0200
TZOFFSETTO:+0100
TZNAME:CET
DTSTART:20251026T010000
END:STANDARD
BEGIN:DAYLIGHT
TZOFFSETFROM:+0100
TZOFFSETTO:+0200
TZNAME:CEST
DTSTART:20260329T010000
END:DAYLIGHT
BEGIN:STANDARD
TZOFFSETFROM:+0200
TZOFFSETTO:+0100
TZNAME:CET
DTSTART:20261025T010000
END:STANDARD
END:VTIMEZONE
BEGIN:VEVENT
DTSTART;TZID=Europe/Paris:20250806T143000
DTEND;TZID=Europe/Paris:20250806T160000
DTSTAMP:20260423T182912
CREATED:20250722T210653Z
LAST-MODIFIED:20250722T211035Z
UID:124532-1754490600-1754496000@actu.art
SUMMARY:Atelier enfants à partir de l'oeuvre de Noémie Constant "Petit amour"
DESCRIPTION:Dessin et peinture \nRÉSERVATION OBLIGATOIRE \nAteliers de pratique et de création artistique autour de collections ou d’expositions temporaires.\nCes ateliers offrent aux enfants et ados la possibilité de s’initier à diverses techniques telles que le dessin\, la peinture tout en découvrant le musée.\nLes P’tits Artistes se transforment en Aventuriers de l’art ! \nLe musée a mis également en place des ateliers pour les familles durant lesquels parents et grands-parents sont invités à créer une œuvre collective avec leur enfant.\nUne manière originale de découvrir le musée en famille !
URL:https://actu.art/event/atelier-enfants-a-partir-de-loeuvre-de-noemie-constant-petit-amour/
LOCATION:Musée Massey\, Jardin Massey\, Tarbes\, Hautes-Pyrénées\, 65000\, France
CATEGORIES:Stages
ATTACH;FMTTYPE=image/jpeg:https://actu.art/wp-content/uploads/2025/07/Atelier_enfants_a_partir_de_l_oeuvre_de_Noemie_Constant_Petit_amour_.jpg
GEO:43.2382201;0.0764287
X-APPLE-STRUCTURED-LOCATION;VALUE=URI;X-ADDRESS=Musée Massey Jardin Massey Tarbes Hautes-Pyrénées 65000 France;X-APPLE-RADIUS=500;X-TITLE=Jardin Massey:geo:0.0764287,43.2382201
END:VEVENT
END:VCALENDAR