BEGIN:VCALENDAR
VERSION:2.0
PRODID:-//Actu.Art - ECPv6.15.13//NONSGML v1.0//EN
CALSCALE:GREGORIAN
METHOD:PUBLISH
X-WR-CALNAME:Actu.Art
X-ORIGINAL-URL:https://actu.art
X-WR-CALDESC:Évènements pour Actu.Art
BEGIN:VTIMEZONE
TZID:Europe/Paris
BEGIN:DAYLIGHT
TZOFFSETFROM:+0100
TZOFFSETTO:+0200
TZNAME:CEST
DTSTART:20250330T010000
END:DAYLIGHT
BEGIN:STANDARD
TZOFFSETFROM:+0200
TZOFFSETTO:+0100
TZNAME:CET
DTSTART:20251026T010000
END:STANDARD
BEGIN:DAYLIGHT
TZOFFSETFROM:+0100
TZOFFSETTO:+0200
TZNAME:CEST
DTSTART:20260329T010000
END:DAYLIGHT
BEGIN:STANDARD
TZOFFSETFROM:+0200
TZOFFSETTO:+0100
TZNAME:CET
DTSTART:20261025T010000
END:STANDARD
BEGIN:DAYLIGHT
TZOFFSETFROM:+0100
TZOFFSETTO:+0200
TZNAME:CEST
DTSTART:20270328T010000
END:DAYLIGHT
BEGIN:STANDARD
TZOFFSETFROM:+0200
TZOFFSETTO:+0100
TZNAME:CET
DTSTART:20271031T010000
END:STANDARD
END:VTIMEZONE
BEGIN:VEVENT
DTSTART;TZID=Europe/Paris:20260820T093000
DTEND;TZID=Europe/Paris:20260820T120000
DTSTAMP:20260425T050127
CREATED:20260303T174713Z
LAST-MODIFIED:20260303T174713Z
UID:139499-1787218200-1787227200@actu.art
SUMMARY:Atelier BD
DESCRIPTION:Venez créer votre planche de BD
URL:https://actu.art/event/atelier-bd-2/
LOCATION:Bibliothèque de Mazet-Saint-Voy\, Mairie\, Mazet-Saint-Voy\, Haute-Loire\, 43520
CATEGORIES:Stages
GEO:45.0428429;4.2409511
X-APPLE-STRUCTURED-LOCATION;VALUE=URI;X-ADDRESS=Bibliothèque de Mazet-Saint-Voy Mairie Mazet-Saint-Voy Haute-Loire 43520;X-APPLE-RADIUS=500;X-TITLE=Mairie:geo:4.2409511,45.0428429
END:VEVENT
END:VCALENDAR